Workbook
Name feiertage: Feiertage!$C$13:$F$45
Name monate: sys!$C$10:$C$21

Sheet Anleitung
C2: Urlaubsverwaltung - Anleitung
C4: Anleitung
C6: Reiter Mitarbeiter
C7: Tragen Sie hier die Namen der Mitarbeiter, Urlaubsansprüche und Resturlaub aus dem letzten Jahr an. Die Summe der Krankheitstage und Urlaubstage werden automatisch errechnet und angezeigt. Tragen Sie in der ersten Spalte für jeden Mitarbeiter ein, ob die Wochentage Montag bis Freitag oder Montag bis Samstag als Arbeitstage gelten. Für Mo-Fr tragen Sie eine 5 ein, für Mo-Sa tragen Sie bitte eine 6 ein.
C9: Reiter Jahresübersicht
C10: In diesem Reiter erhalten Sie eine Übersicht über den Urlaub aller Mitarbeiter. Hier können Sie keine Eingaben machen.
C12: Monatsreiter "Jan"-"Dez"
C13: Hier tragen Sie den Urlaub der Mitarbeiter ein. Dazu geben Sie für einen vollen Urlaubstag eine "1" ein, für halbe Urlaubstage eine "0,5". Sie können auch andere Bruchteile eines Tages eingeben, indem Sie beispielsweise "0,25" oder "0,1" eingeben. Für Urlaubstage, die zwar vorgemerkt, aber noch nicht in der Urlaubsplanung berücksichtigt werden sollen, tragen Sie bitte eine "0" ein. Wenn der Urlaub dann tatsächlich umgewandelt wird, können Sie aus der "0" eine "1" machen, damit der Urlaub eingerechnet wird. Für Krankheitstage geben Sie ein kleines "k" ein, für halbe Krankheitstage ein großes "K". Feiertage werden automatisch berücksichtigt und nicht als Urlaubs- oder Krankheitstage gezählt. Die Berücksichtigung für Schaltjahre im Monat Februar ist auch gewährleistet.
D15: 1 | E15: = | F15: Ein ganzer Tag Urlaub
D16: 0.5 | E16: = | F16: Ein halber Tag Urlaub
D17: 0 | E17: = | F17: Vorgemerkter Urlaub, wird nicht gezählt
C18: k (kleines k)) | E18: = | F18: Ein ganzer Krankheitstag
C19: K (großes K) | E19: = | F19: Ein halber Krankheitstag
C21: Reiter "Feiertage"
C22: In diesem Reiter tragen Sie die Feiertage ein, die für das Jahr gelten sollen. Nicht zu verwendende Urlaubstage entfernen Sie bitte aus dieser Ansicht.
C24: Reiter "Bemerkungen"
C25: In diesen Reiter können Sie frei jegliche Bemerkungen eintragen.

Sheet Stammdaten
C2: Urlaubsverwaltung - Stammdaten
C4: Stammdaten | G4: =IF(MONTH(DATE(D6,2,29))=2,1,0) -> 0
C6: Jahr | D6: 2027 | E6: =IF(G4=1,"(Schaltjahr)","(Kein Schaltjahr)") -> (Kein Schaltjahr)
C16: Kurzanleitung
C19: Tragen Sie im Reiter Stammdaten (dieser Reiter) das Jahr ein, für das der Urlaubsplaner gelten soll.
C21: Tragen Sie im Reiter Mitarbeiter die Namen der Mitarbeiter und Urlaubsdaten der Mitarbeiter ein.
C23: Tragen Sie in den Reitern Jan-Dez den Urlaub wie folgt ein:
D25: 1 | E25: = | F25: Ein ganzer Tag Urlaub
D26: 0.5 | E26: = | F26: Ein halber Tag Urlaub
D27: 0 | E27: = | F27: Vorgemerkter Urlaub, wird nicht gezählt
C28: k (kleines k) | E28: = | F28: Ein ganzer Krankheitstag
C29: K (großes K) | E29: = | F29: Ein halber Krankheitstag
C31: Tragen Sie im Reiter Feiertage die gültigen Feiertage ein und entfernen Sie die nicht gewünschten Feiertage

Sheet Mitarbeiter
C2: Urlaubsverwaltung - Eintragungen
B4: Wochenarbeitstage (5=Mo-Fr, 6=Mo-Sa) | C4: Mitarbeiter | D4: Resturlaub aus dem letztem Jahr | E4: Urlaubsanspruch aktuelles Jahr | G4: Summe dieses Jahr | H4: Abgegoltene Urlaubstage | I4: Verbleibende Urlaubstage | K4: Anzahl Urlaubstage
F5: Sonderurlaub aktuelles Jahr | J5: Krankheitstage | K5: Januar | L5: Februar | M5: März | N5: April | O5: Mai | P5: Juni | Q5: Juli | R5: August | S5: September | T5: Oktober | U5: November | V5: Dezember
B6: 5 | D6: 0 | E6: 0 | F6: 0 | G6: =D6+E6+F6 -> 0 | H6: =Jan!C8+Feb!C8+Mrz!C8+April!C8+Mai!C8+Juni!C8+Juli!C8+August!C8+September!C8+Oktober!C8+November!C8+Dezember!C8 -> 0 | I6: =G6-H6 -> 0 | J6: =Jan!D8+Feb!D8+Mrz!D8+April!D8+Mai!D8+Juni!D8+Juli!D8+August!D8+September!D8+Oktober!D8+November!D8+Dezember!D8 -> 0 | K6: =IF(Jan!$C8>0,Jan!$C8,"") | L6: =IF(Feb!$C8>0,Feb!$C8,"") | M6: =IF(Mrz!$C8>0,Mrz!$C8,"") | N6: =IF(April!$C8>0,April!$C8,"") | O6: =IF(Mai!$C8>0,Mai!$C8,"") | P6: =IF(Juni!$C8>0,Juni!$C8,"") | Q6: =IF(Juli!$C8>0,Juli!$C8,"") | R6: =IF(August!$C8>0,August!$C8,"") | S6: =IF(September!$C8>0,September!$C8,"") | T6: =IF(Oktober!$C8>0,Oktober!$C8,"") | U6: =IF(November!$C8>0,November!$C8,"") | V6: =IF(Dezember!$C8>0,Dezember!$C8,"")
B7: 5 | D7: 0 | E7: 0 | F7: 0 | G7: =D7+E7+F7 -> 0 | H7: =Jan!C9+Feb!C9+Mrz!C9+April!C9+Mai!C9+Juni!C9+Juli!C9+August!C9+September!C9+Oktober!C9+November!C9+Dezember!C9 -> 0 | I7: =G7-H7 -> 0 | J7: =Jan!D9+Feb!D9+Mrz!D9+April!D9+Mai!D9+Juni!D9+Juli!D9+August!D9+September!D9+Oktober!D9+November!D9+Dezember!D9 -> 0 | K7: =IF(Jan!$C9>0,Jan!$C9,"") | L7: =IF(Feb!$C9>0,Feb!$C9,"") | M7: =IF(Mrz!$C9>0,Mrz!$C9,"") | N7: =IF(April!$C9>0,April!$C9,"") | O7: =IF(Mai!$C9>0,Mai!$C9,"") | P7: =IF(Juni!$C9>0,Juni!$C9,"") | Q7: =IF(Juli!$C9>0,Juli!$C9,"") | R7: =IF(August!$C9>0,August!$C9,"") | S7: =IF(September!$C9>0,September!$C9,"") | T7: =IF(Oktober!$C9>0,Oktober!$C9,"") | U7: =IF(November!$C9>0,November!$C9,"") | V7: =IF(Dezember!$C9>0,Dezember!$C9,"")
B8: 5 | D8: 0 | E8: 0 | F8: 0 | G8: =D8+E8+F8 -> 0 | H8: =Jan!C10+Feb!C10+Mrz!C10+April!C10+Mai!C10+Juni!C10+Juli!C10+August!C10+September!C10+Oktober!C10+November!C10+Dezember!C10 -> 0 | I8: =G8-H8 -> 0 | J8: =Jan!D10+Feb!D10+Mrz!D10+April!D10+Mai!D10+Juni!D10+Juli!D10+August!D10+September!D10+Oktober!D10+November!D10+Dezember!D10 -> 0 | K8: =IF(Jan!$C10>0,Jan!$C10,"") | L8: =IF(Feb!$C10>0,Feb!$C10,"") | M8: =IF(Mrz!$C10>0,Mrz!$C10,"") | N8: =IF(April!$C10>0,April!$C10,"") | O8: =IF(Mai!$C10>0,Mai!$C10,"") | P8: =IF(Juni!$C10>0,Juni!$C10,"") | Q8: =IF(Juli!$C10>0,Juli!$C10,"") | R8: =IF(August!$C10>0,August!$C10,"") | S8: =IF(September!$C10>0,September!$C10,"") | T8: =IF(Oktober!$C10>0,Oktober!$C10,"") | U8: =IF(November!$C10>0,November!$C10,"") | V8: =IF(Dezember!$C10>0,Dezember!$C10,"")
B9: 5 | D9: 0 | E9: 0 | F9: 0 | G9: =D9+E9+F9 -> 0 | H9: =Jan!C11+Feb!C11+Mrz!C11+April!C11+Mai!C11+Juni!C11+Juli!C11+August!C11+September!C11+Oktober!C11+November!C11+Dezember!C11 -> 0 | I9: =G9-H9 -> 0 | J9: =Jan!D11+Feb!D11+Mrz!D11+April!D11+Mai!D11+Juni!D11+Juli!D11+August!D11+September!D11+Oktober!D11+November!D11+Dezember!D11 -> 0 | K9: =IF(Jan!$C11>0,Jan!$C11,"") | L9: =IF(Feb!$C11>0,Feb!$C11,"") | M9: =IF(Mrz!$C11>0,Mrz!$C11,"") | N9: =IF(April!$C11>0,April!$C11,"") | O9: =IF(Mai!$C11>0,Mai!$C11,"") | P9: =IF(Juni!$C11>0,Juni!$C11,"") | Q9: =IF(Juli!$C11>0,Juli!$C11,"") | R9: =IF(August!$C11>0,August!$C11,"") | S9: =IF(September!$C11>0,September!$C11,"") | T9: =IF(Oktober!$C11>0,Oktober!$C11,"") | U9: =IF(November!$C11>0,November!$C11,"") | V9: =IF(Dezember!$C11>0,Dezember!$C11,"")
B10: 5 | D10: 0 | E10: 0 | F10: 0 | G10: =D10+E10+F10 -> 0 | H10: =Jan!C12+Feb!C12+Mrz!C12+April!C12+Mai!C12+Juni!C12+Juli!C12+August!C12+September!C12+Oktober!C12+November!C12+Dezember!C12 -> 0 | I10: =G10-H10 -> 0 | J10: =Jan!D12+Feb!D12+Mrz!D12+April!D12+Mai!D12+Juni!D12+Juli!D12+August!D12+September!D12+Oktober!D12+November!D12+Dezember!D12 -> 0 | K10: =IF(Jan!$C12>0,Jan!$C12,"") | L10: =IF(Feb!$C12>0,Feb!$C12,"") | M10: =IF(Mrz!$C12>0,Mrz!$C12,"") | N10: =IF(April!$C12>0,April!$C12,"") | O10: =IF(Mai!$C12>0,Mai!$C12,"") | P10: =IF(Juni!$C12>0,Juni!$C12,"") | Q10: =IF(Juli!$C12>0,Juli!$C12,"") | R10: =IF(August!$C12>0,August!$C12,"") | S10: =IF(September!$C12>0,September!$C12,"") | T10: =IF(Oktober!$C12>0,Oktober!$C12,"") | U10: =IF(November!$C12>0,November!$C12,"") | V10: =IF(Dezember!$C12>0,Dezember!$C12,"")
B11: 5 | D11: 0 | E11: 0 | F11: 0 | G11: =D11+E11+F11 -> 0 | H11: =Jan!C13+Feb!C13+Mrz!C13+April!C13+Mai!C13+Juni!C13+Juli!C13+August!C13+September!C13+Oktober!C13+November!C13+Dezember!C13 -> 0 | I11: =G11-H11 -> 0 | J11: =Jan!D13+Feb!D13+Mrz!D13+April!D13+Mai!D13+Juni!D13+Juli!D13+August!D13+September!D13+Oktober!D13+November!D13+Dezember!D13 -> 0 | K11: =IF(Jan!$C13>0,Jan!$C13,"") | L11: =IF(Feb!$C13>0,Feb!$C13,"") | M11: =IF(Mrz!$C13>0,Mrz!$C13,"") | N11: =IF(April!$C13>0,April!$C13,"") | O11: =IF(Mai!$C13>0,Mai!$C13,"") | P11: =IF(Juni!$C13>0,Juni!$C13,"") | Q11: =IF(Juli!$C13>0,Juli!$C13,"") | R11: =IF(August!$C13>0,August!$C13,"") | S11: =IF(September!$C13>0,September!$C13,"") | T11: =IF(Oktober!$C13>0,Oktober!$C13,"") | U11: =IF(November!$C13>0,November!$C13,"") | V11: =IF(Dezember!$C13>0,Dezember!$C13,"")
B12: 5 | D12: 0 | E12: 0 | F12: 0 | G12: =D12+E12+F12 -> 0 | H12: =Jan!C14+Feb!C14+Mrz!C14+April!C14+Mai!C14+Juni!C14+Juli!C14+August!C14+September!C14+Oktober!C14+November!C14+Dezember!C14 -> 0 | I12: =G12-H12 -> 0 | J12: =Jan!D14+Feb!D14+Mrz!D14+April!D14+Mai!D14+Juni!D14+Juli!D14+August!D14+September!D14+Oktober!D14+November!D14+Dezember!D14 -> 0 | K12: =IF(Jan!$C14>0,Jan!$C14,"") | L12: =IF(Feb!$C14>0,Feb!$C14,"") | M12: =IF(Mrz!$C14>0,Mrz!$C14,"") | N12: =IF(April!$C14>0,April!$C14,"") | O12: =IF(Mai!$C14>0,Mai!$C14,"") | P12: =IF(Juni!$C14>0,Juni!$C14,"") | Q12: =IF(Juli!$C14>0,Juli!$C14,"") | R12: =IF(August!$C14>0,August!$C14,"") | S12: =IF(September!$C14>0,September!$C14,"") | T12: =IF(Oktober!$C14>0,Oktober!$C14,"") | U12: =IF(November!$C14>0,November!$C14,"") | V12: =IF(Dezember!$C14>0,Dezember!$C14,"")
B13: 5 | D13: 0 | E13: 0 | F13: 0 | G13: =D13+E13+F13 -> 0 | H13: =Jan!C15+Feb!C15+Mrz!C15+April!C15+Mai!C15+Juni!C15+Juli!C15+August!C15+September!C15+Oktober!C15+November!C15+Dezember!C15 -> 0 | I13: =G13-H13 -> 0 | J13: =Jan!D15+Feb!D15+Mrz!D15+April!D15+Mai!D15+Juni!D15+Juli!D15+August!D15+September!D15+Oktober!D15+November!D15+Dezember!D15 -> 0 | K13: =IF(Jan!$C15>0,Jan!$C15,"") | L13: =IF(Feb!$C15>0,Feb!$C15,"") | M13: =IF(Mrz!$C15>0,Mrz!$C15,"") | N13: =IF(April!$C15>0,April!$C15,"") | O13: =IF(Mai!$C15>0,Mai!$C15,"") | P13: =IF(Juni!$C15>0,Juni!$C15,"") | Q13: =IF(Juli!$C15>0,Juli!$C15,"") | R13: =IF(August!$C15>0,August!$C15,"") | S13: =IF(September!$C15>0,September!$C15,"") | T13: =IF(Oktober!$C15>0,Oktober!$C15,"") | U13: =IF(November!$C15>0,November!$C15,"") | V13: =IF(Dezember!$C15>0,Dezember!$C15,"")
B14: 5 | D14: 0 | E14: 0 | F14: 0 | G14: =D14+E14+F14 -> 0 | H14: =Jan!C16+Feb!C16+Mrz!C16+April!C16+Mai!C16+Juni!C16+Juli!C16+August!C16+September!C16+Oktober!C16+November!C16+Dezember!C16 -> 0 | I14: =G14-H14 -> 0 | J14: =Jan!D16+Feb!D16+Mrz!D16+April!D16+Mai!D16+Juni!D16+Juli!D16+August!D16+September!D16+Oktober!D16+November!D16+Dezember!D16 -> 0 | K14: =IF(Jan!$C16>0,Jan!$C16,"") | L14: =IF(Feb!$C16>0,Feb!$C16,"") | M14: =IF(Mrz!$C16>0,Mrz!$C16,"") | N14: =IF(April!$C16>0,April!$C16,"") | O14: =IF(Mai!$C16>0,Mai!$C16,"") | P14: =IF(Juni!$C16>0,Juni!$C16,"") | Q14: =IF(Juli!$C16>0,Juli!$C16,"") | R14: =IF(August!$C16>0,August!$C16,"") | S14: =IF(September!$C16>0,September!$C16,"") | T14: =IF(Oktober!$C16>0,Oktober!$C16,"") | U14: =IF(November!$C16>0,November!$C16,"") | V14: =IF(Dezember!$C16>0,Dezember!$C16,"")
B15: 5 | D15: 0 | E15: 0 | F15: 0 | G15: =D15+E15+F15 -> 0 | H15: =Jan!C17+Feb!C17+Mrz!C17+April!C17+Mai!C17+Juni!C17+Juli!C17+August!C17+September!C17+Oktober!C17+November!C17+Dezember!C17 -> 0 | I15: =G15-H15 -> 0 | J15: =Jan!D17+Feb!D17+Mrz!D17+April!D17+Mai!D17+Juni!D17+Juli!D17+August!D17+September!D17+Oktober!D17+November!D17+Dezember!D17 -> 0 | K15: =IF(Jan!$C17>0,Jan!$C17,"") | L15: =IF(Feb!$C17>0,Feb!$C17,"") | M15: =IF(Mrz!$C17>0,Mrz!$C17,"") | N15: =IF(April!$C17>0,April!$C17,"") | O15: =IF(Mai!$C17>0,Mai!$C17,"") | P15: =IF(Juni!$C17>0,Juni!$C17,"") | Q15: =IF(Juli!$C17>0,Juli!$C17,"") | R15: =IF(August!$C17>0,August!$C17,"") | S15: =IF(September!$C17>0,September!$C17,"") | T15: =IF(Oktober!$C17>0,Oktober!$C17,"") | U15: =IF(November!$C17>0,November!$C17,"") | V15: =IF(Dezember!$C17>0,Dezember!$C17,"")
B16: 5 | D16: 0 | E16: 0 | F16: 0 | G16: =D16+E16+F16 -> 0 | H16: =Jan!C18+Feb!C18+Mrz!C18+April!C18+Mai!C18+Juni!C18+Juli!C18+August!C18+September!C18+Oktober!C18+November!C18+Dezember!C18 -> 0 | I16: =G16-H16 -> 0 | J16: =Jan!D18+Feb!D18+Mrz!D18+April!D18+Mai!D18+Juni!D18+Juli!D18+August!D18+September!D18+Oktober!D18+November!D18+Dezember!D18 -> 0 | K16: =IF(Jan!$C18>0,Jan!$C18,"") | L16: =IF(Feb!$C18>0,Feb!$C18,"") | M16: =IF(Mrz!$C18>0,Mrz!$C18,"") | N16: =IF(April!$C18>0,April!$C18,"") | O16: =IF(Mai!$C18>0,Mai!$C18,"") | P16: =IF(Juni!$C18>0,Juni!$C18,"") | Q16: =IF(Juli!$C18>0,Juli!$C18,"") | R16: =IF(August!$C18>0,August!$C18,"") | S16: =IF(September!$C18>0,September!$C18,"") | T16: =IF(Oktober!$C18>0,Oktober!$C18,"") | U16: =IF(November!$C18>0,November!$C18,"") | V16: =IF(Dezember!$C18>0,Dezember!$C18,"")
B17: 5 | D17: 0 | E17: 0 | F17: 0 | G17: =D17+E17+F17 -> 0 | H17: =Jan!C19+Feb!C19+Mrz!C19+April!C19+Mai!C19+Juni!C19+Juli!C19+August!C19+September!C19+Oktober!C19+November!C19+Dezember!C19 -> 0 | I17: =G17-H17 -> 0 | J17: =Jan!D19+Feb!D19+Mrz!D19+April!D19+Mai!D19+Juni!D19+Juli!D19+August!D19+September!D19+Oktober!D19+November!D19+Dezember!D19 -> 0 | K17: =IF(Jan!$C19>0,Jan!$C19,"") | L17: =IF(Feb!$C19>0,Feb!$C19,"") | M17: =IF(Mrz!$C19>0,Mrz!$C19,"") | N17: =IF(April!$C19>0,April!$C19,"") | O17: =IF(Mai!$C19>0,Mai!$C19,"") | P17: =IF(Juni!$C19>0,Juni!$C19,"") | Q17: =IF(Juli!$C19>0,Juli!$C19,"") | R17: =IF(August!$C19>0,August!$C19,"") | S17: =IF(September!$C19>0,September!$C19,"") | T17: =IF(Oktober!$C19>0,Oktober!$C19,"") | U17: =IF(November!$C19>0,November!$C19,"") | V17: =IF(Dezember!$C19>0,Dezember!$C19,"")
... B78: 5 | D78: 0 | E78: 0 | F78: 0 | G78: =D78+E78+F78 -> 0 | H78: =Jan!C80+Feb!C80+Mrz!C80+April!C80+Mai!C80+Juni!C80+Juli!C80+August!C80+September!C80+Oktober!C80+November!C80+Dezember!C80 -> 0 | I78: =G78-H78 -> 0 | J78: =Jan!D80+Feb!D80+Mrz!D80+April!D80+Mai!D80+Juni!D80+Juli!D80+August!D80+September!D80+Oktober!D80+November!D80+Dezember!D80 -> 0 | K78: =IF(Jan!$C80>0,Jan!$C80,"") | L78: =IF(Feb!$C80>0,Feb!$C80,"") | M78: =IF(Mrz!$C80>0,Mrz!$C80,"") | N78: =IF(April!$C80>0,April!$C80,"") | O78: =IF(Mai!$C80>0,Mai!$C80,"") | P78: =IF(Juni!$C80>0,Juni!$C80,"") | Q78: =IF(Juli!$C80>0,Juli!$C80,"") | R78: =IF(August!$C80>0,August!$C80,"") | S78: =IF(September!$C80>0,September!$C80,"") | T78: =IF(Oktober!$C80>0,Oktober!$C80,"") | U78: =IF(November!$C80>0,November!$C80,"") | V78: =IF(Dezember!$C80>0,Dezember!$C80,"")

Sheet Jahresübersicht
B2: ="Urlaubsverwaltung - Jahresübersicht "&Stammdaten!D6 -> Urlaubsverwaltung - Jahresübersicht 2027
B4: Mitarbeiter | C4: Resturlaub aus dem letztem Jahr | D4: Urlaubsanspruch aktuelles Jahr | E4: Sonderurlaub aktuelles Jahr | F4: Summe dieses Jahr | G4: Abgegoltene Urlaubstage | H4: Verbleibende Urlaubstage | I4: Bei dieser Jahresansicht handelt es sich lediglich um eine grobe Darstellung des Urlaubs. Statt Kalenderwochen zu verwenden, wurden bewust die Monate in vier Blöcke aufgeteilt. Eine Unterteilung nach KW würde den Umfang dieser Excel-Vorlage sprengen. Die Farbe der Balken gibt Auskunft über die Anzahl Urlaubstage: je dunkler die Fäürbung, desto mehr Urlaubstage in dem betroffenen Zeitraum. Krankheitstage werden hier nicht angezeigt. | AG4: Bei dieser Jahresansicht handelt es sich lediglich um eine grobe Darstellung des Urlaubs. Statt Kalenderwochen zu verwenden, wurden bewust die Monate in vier Blöcke aufgeteilt. Eine Unterteilung nach KW würde den Umfang dieser Excel-Vorlage sprengen. Die Farbe der Balken gibt Auskunft über die Anzahl Urlaubstage: je dunkler die Fäürbung, desto mehr Urlaubstage in dem betroffenen Zeitraum. Krankheitstage werden hier nicht angezeigt.
I7: Jan | M7: Feb | Q7: März | U7: April | Y7: Mai | AC7: Juni | AG7: Juli | AK7: August | AO7: Septemb. | AS7: Oktober | AW7: November | BA7: Dezember
I8: 1 | J8: 2 | K8: 3 | L8: 4 | M8: 1 | N8: 2 | O8: 3 | P8: 4 | Q8: 1 | R8: 2 | S8: 3 | T8: 4 | U8: 1 | V8: 2 | W8: 3 | X8: 4 | Y8: 1 | Z8: 2 | AA8: 3 | AB8: 4 | AC8: 1 | AD8: 2 | AE8: 3 | AF8: 4 | AG8: 1 | AH8: 2 | AI8: 3 | AJ8: 4 | AK8: 1 | AL8: 2 | AM8: 3 | AN8: 4 | AO8: 1 | AP8: 2 | AQ8: 3 | AR8: 4 | AS8: 1 | AT8: 2 | AU8: 3 | AV8: 4 | AW8: 1 | AX8: 2 | AY8: 3 | AZ8: 4 | BA8: 1 | BB8: 2 | BC8: 3 | BD8: 4 | BF8: J | BJ8: F | BN8: M | BR8: A | BV8: M | BZ8: J | CD8: J | CH8: A | CL8: S | CP8: O | CT8: N | CX8: D
B9: =IF(ISBLANK(Mitarbeiter!C6),"",Mitarbeiter!C6) | C9: =Mitarbeiter!D6 -> 0 | D9: =Mitarbeiter!E6 -> 0 | E9: =Mitarbeiter!F6 -> 0 | F9: =Mitarbeiter!G6 -> 0 | G9: =Mitarbeiter!H6 -> 0 | H9: =Mitarbeiter!I6 -> 0 | BF9: =SUM(Jan!E8:K8) -> 0 | BG9: =SUM(Jan!L8:S8) -> 0 | BH9: =SUM(Jan!T8:AA8) -> 0 | BI9: =SUM(Jan!AB8:AI8) -> 0 | BJ9: =SUM(Feb!E8:K8) -> 0 | BK9: =SUM(Feb!L8:R8) -> 0 | BL9: =SUM(Feb!T8:Z8) -> 0 | BM9: =SUM(Feb!AA8:AF8) -> 0 | BN9: =SUM(Mrz!$E8:$K8) -> 0 | BO9: =SUM(Mrz!$L8:$S8) -> 0 | BP9: =SUM(Mrz!$T8:$AA8) -> 0 | BQ9: =SUM(Mrz!$AB8:$AI8) -> 0 | BR9: =SUM(April!$E8:$K8) -> 0 | BS9: =SUM(April!$L8:$S8) -> 0 | BT9: =SUM(April!$T8:$AA8) -> 0 | BU9: =SUM(April!$AB8:$AI8) -> 0 | BV9: =SUM(Mai!$E8:$K8) -> 0 | BW9: =SUM(Mai!$L8:$S8) -> 0 | BX9: =SUM(Mai!$T8:$AA8) -> 0 | BY9: =SUM(Mai!$AB8:$AI8) -> 0 | BZ9: =SUM(Juni!$E8:$K8) -> 0 | CA9: =SUM(Juni!$L8:$S8) -> 0 | CB9: =SUM(Juni!$T8:$AA8) -> 0 | CC9: =SUM(Juni!$AB8:$AI8) -> 0 | CD9: =SUM(Juli!$E8:$K8) -> 0 | CE9: =SUM(Juli!$L8:$S8) -> 0 | CF9: =SUM(Juli!$T8:$AA8) -> 0 | CG9: =SUM(Juli!$AB8:$AI8) -> 0 | CH9: =SUM(August!$E8:$K8) -> 0 | CI9: =SUM(August!$L8:$S8) -> 0 | CJ9: =SUM(August!$T8:$AA8) -> 0 | CK9: =SUM(August!$AB8:$AI8) -> 0 | CL9: =SUM(September!$E8:$K8) -> 0 | CM9: =SUM(September!$L8:$S8) -> 0 | CN9: =SUM(September!$T8:$AA8) -> 0 | CO9: =SUM(September!$AB8:$AI8) -> 0 | CP9: =SUM(Oktober!$E8:$K8) -> 0 | CQ9: =SUM(Oktober!$L8:$S8) -> 0 | CR9: =SUM(Oktober!$T8:$AA8) -> 0 | CS9: =SUM(Oktober!$AB8:$AI8) -> 0 | CT9: =SUM(November!$E8:$K8) -> 0 | CU9: =SUM(November!$L8:$S8) -> 0 | CV9: =SUM(November!$T8:$AA8) -> 0 | CW9: =SUM(November!$AB8:$AI8) -> 0 | CX9: =SUM(Dezember!$E8:$K8) -> 0 | CY9: =SUM(Dezember!$L8:$S8) -> 0 | CZ9: =SUM(Dezember!$T8:$AA8) -> 0 | DA9: =SUM(Dezember!$AB8:$AI8) -> 0
B10: =IF(ISBLANK(Mitarbeiter!C7),"",Mitarbeiter!C7) | C10: =Mitarbeiter!D7 -> 0 | D10: =Mitarbeiter!E7 -> 0 | E10: =Mitarbeiter!F7 -> 0 | F10: =Mitarbeiter!G7 -> 0 | G10: =Mitarbeiter!H7 -> 0 | H10: =Mitarbeiter!I7 -> 0 | BF10: =SUM(Jan!E9:K9) -> 0 | BG10: =SUM(Jan!L9:S9) -> 0 | BH10: =SUM(Jan!T9:AA9) -> 0 | BI10: =SUM(Jan!AB9:AI9) -> 0 | BJ10: =SUM(Feb!E9:K9) -> 0 | BK10: =SUM(Feb!L9:R9) -> 0 | BL10: =SUM(Feb!T9:Z9) -> 0 | BM10: =SUM(Feb!AA9:AF9) -> 0 | BN10: =SUM(Mrz!E9:K9) -> 0 | BO10: =SUM(Mrz!L9:S9) -> 0 | BP10: =SUM(Mrz!T9:AA9) -> 0 | BQ10: =SUM(Mrz!AB9:AI9) -> 0 | BR10: =SUM(April!$E9:$K9) -> 0 | BS10: =SUM(April!$L9:$S9) -> 0 | BT10: =SUM(April!$T9:$AA9) -> 0 | BU10: =SUM(April!$AB9:$AI9) -> 0 | BV10: =SUM(Mai!$E9:$K9) -> 0 | BW10: =SUM(Mai!$L9:$S9) -> 0 | BX10: =SUM(Mai!$T9:$AA9) -> 0 | BY10: =SUM(Mai!$AB9:$AI9) -> 0 | BZ10: =SUM(Juni!$E9:$K9) -> 0 | CA10: =SUM(Juni!$L9:$S9) -> 0 | CB10: =SUM(Juni!$T9:$AA9) -> 0 | CC10: =SUM(Juni!$AB9:$AI9) -> 0 | CD10: =SUM(Juli!$E9:$K9) -> 0 | CE10: =SUM(Juli!$L9:$S9) -> 0 | CF10: =SUM(Juli!$T9:$AA9) -> 0 | CG10: =SUM(Juli!$AB9:$AI9) -> 0 | CH10: =SUM(August!$E9:$K9) -> 0 | CI10: =SUM(August!$L9:$S9) -> 0 | CJ10: =SUM(August!$T9:$AA9) -> 0 | CK10: =SUM(August!$AB9:$AI9) -> 0 | CL10: =SUM(September!$E9:$K9) -> 0 | CM10: =SUM(September!$L9:$S9) -> 0 | CN10: =SUM(September!$T9:$AA9) -> 0 | CO10: =SUM(September!$AB9:$AI9) -> 0 | CP10: =SUM(Oktober!$E9:$K9) -> 0 | CQ10: =SUM(Oktober!$L9:$S9) -> 0 | CR10: =SUM(Oktober!$T9:$AA9) -> 0 | CS10: =SUM(Oktober!$AB9:$AI9) -> 0 | CT10: =SUM(November!$E9:$K9) -> 0 | CU10: =SUM(November!$L9:$S9) -> 0 | CV10: =SUM(November!$T9:$AA9) -> 0 | CW10: =SUM(November!$AB9:$AI9) -> 0 | CX10: =SUM(Dezember!$E9:$K9) -> 0 | CY10: =SUM(Dezember!$L9:$S9) -> 0 | CZ10: =SUM(Dezember!$T9:$AA9) -> 0 | DA10: =SUM(Dezember!$AB9:$AI9) -> 0
B11: =IF(ISBLANK(Mitarbeiter!C8),"",Mitarbeiter!C8) | C11: =Mitarbeiter!D8 -> 0 | D11: =Mitarbeiter!E8 -> 0 | E11: =Mitarbeiter!F8 -> 0 | F11: =Mitarbeiter!G8 -> 0 | G11: =Mitarbeiter!H8 -> 0 | H11: =Mitarbeiter!I8 -> 0 | BF11: =SUM(Jan!E10:K10) -> 0 | BG11: =SUM(Jan!L10:S10) -> 0 | BH11: =SUM(Jan!T10:AA10) -> 0 | BI11: =SUM(Jan!AB10:AI10) -> 0 | BJ11: =SUM(Feb!E10:K10) -> 0 | BK11: =SUM(Feb!L10:R10) -> 0 | BL11: =SUM(Feb!T10:Z10) -> 0 | BM11: =SUM(Feb!AA10:AF10) -> 0 | BN11: =SUM(Mrz!E10:K10) -> 0 | BO11: =SUM(Mrz!L10:S10) -> 0 | BP11: =SUM(Mrz!T10:AA10) -> 0 | BQ11: =SUM(Mrz!AB10:AI10) -> 0 | BR11: =SUM(April!$E10:$K10) -> 0 | BS11: =SUM(April!$L10:$S10) -> 0 | BT11: =SUM(April!$T10:$AA10) -> 0 | BU11: =SUM(April!$AB10:$AI10) -> 0 | BV11: =SUM(Mai!$E10:$K10) -> 0 | BW11: =SUM(Mai!$L10:$S10) -> 0 | BX11: =SUM(Mai!$T10:$AA10) -> 0 | BY11: =SUM(Mai!$AB10:$AI10) -> 0 | BZ11: =SUM(Juni!$E10:$K10) -> 0 | CA11: =SUM(Juni!$L10:$S10) -> 0 | CB11: =SUM(Juni!$T10:$AA10) -> 0 | CC11: =SUM(Juni!$AB10:$AI10) -> 0 | CD11: =SUM(Juli!$E10:$K10) -> 0 | CE11: =SUM(Juli!$L10:$S10) -> 0 | CF11: =SUM(Juli!$T10:$AA10) -> 0 | CG11: =SUM(Juli!$AB10:$AI10) -> 0 | CH11: =SUM(August!$E10:$K10) -> 0 | CI11: =SUM(August!$L10:$S10) -> 0 | CJ11: =SUM(August!$T10:$AA10) -> 0 | CK11: =SUM(August!$AB10:$AI10) -> 0 | CL11: =SUM(September!$E10:$K10) -> 0 | CM11: =SUM(September!$L10:$S10) -> 0 | CN11: =SUM(September!$T10:$AA10) -> 0 | CO11: =SUM(September!$AB10:$AI10) -> 0 | CP11: =SUM(Oktober!$E10:$K10) -> 0 | CQ11: =SUM(Oktober!$L10:$S10) -> 0 | CR11: =SUM(Oktober!$T10:$AA10) -> 0 | CS11: =SUM(Oktober!$AB10:$AI10) -> 0 | CT11: =SUM(November!$E10:$K10) -> 0 | CU11: =SUM(November!$L10:$S10) -> 0 | CV11: =SUM(November!$T10:$AA10) -> 0 | CW11: =SUM(November!$AB10:$AI10) -> 0 | CX11: =SUM(Dezember!$E10:$K10) -> 0 | CY11: =SUM(Dezember!$L10:$S10) -> 0 | CZ11: =SUM(Dezember!$T10:$AA10) -> 0 | DA11: =SUM(Dezember!$AB10:$AI10) -> 0
B12: =IF(ISBLANK(Mitarbeiter!C9),"",Mitarbeiter!C9) | C12: =Mitarbeiter!D9 -> 0 | D12: =Mitarbeiter!E9 -> 0 | E12: =Mitarbeiter!F9 -> 0 | F12: =Mitarbeiter!G9 -> 0 | G12: =Mitarbeiter!H9 -> 0 | H12: =Mitarbeiter!I9 -> 0 | BF12: =SUM(Jan!E11:K11) -> 0 | BG12: =SUM(Jan!L11:S11) -> 0 | BH12: =SUM(Jan!T11:AA11) -> 0 | BI12: =SUM(Jan!AB11:AI11) -> 0 | BJ12: =SUM(Feb!E11:K11) -> 0 | BK12: =SUM(Feb!L11:R11) -> 0 | BL12: =SUM(Feb!T11:Z11) -> 0 | BM12: =SUM(Feb!AA11:AF11) -> 0 | BN12: =SUM(Mrz!E11:K11) -> 0 | BO12: =SUM(Mrz!L11:S11) -> 0 | BP12: =SUM(Mrz!T11:AA11) -> 0 | BQ12: =SUM(Mrz!AB11:AI11) -> 0 | BR12: =SUM(April!$E11:$K11) -> 0 | BS12: =SUM(April!$L11:$S11) -> 0 | BT12: =SUM(April!$T11:$AA11) -> 0 | BU12: =SUM(April!$AB11:$AI11) -> 0 | BV12: =SUM(Mai!$E11:$K11) -> 0 | BW12: =SUM(Mai!$L11:$S11) -> 0 | BX12: =SUM(Mai!$T11:$AA11) -> 0 | BY12: =SUM(Mai!$AB11:$AI11) -> 0 | BZ12: =SUM(Juni!$E11:$K11) -> 0 | CA12: =SUM(Juni!$L11:$S11) -> 0 | CB12: =SUM(Juni!$T11:$AA11) -> 0 | CC12: =SUM(Juni!$AB11:$AI11) -> 0 | CD12: =SUM(Juli!$E11:$K11) -> 0 | CE12: =SUM(Juli!$L11:$S11) -> 0 | CF12: =SUM(Juli!$T11:$AA11) -> 0 | CG12: =SUM(Juli!$AB11:$AI11) -> 0 | CH12: =SUM(August!$E11:$K11) -> 0 | CI12: =SUM(August!$L11:$S11) -> 0 | CJ12: =SUM(August!$T11:$AA11) -> 0 | CK12: =SUM(August!$AB11:$AI11) -> 0 | CL12: =SUM(September!$E11:$K11) -> 0 | CM12: =SUM(September!$L11:$S11) -> 0 | CN12: =SUM(September!$T11:$AA11) -> 0 | CO12: =SUM(September!$AB11:$AI11) -> 0 | CP12: =SUM(Oktober!$E11:$K11) -> 0 | CQ12: =SUM(Oktober!$L11:$S11) -> 0 | CR12: =SUM(Oktober!$T11:$AA11) -> 0 | CS12: =SUM(Oktober!$AB11:$AI11) -> 0 | CT12: =SUM(November!$E11:$K11) -> 0 | CU12: =SUM(November!$L11:$S11) -> 0 | CV12: =SUM(November!$T11:$AA11) -> 0 | CW12: =SUM(November!$AB11:$AI11) -> 0 | CX12: =SUM(Dezember!$E11:$K11) -> 0 | CY12: =SUM(Dezember!$L11:$S11) -> 0 | CZ12: =SUM(Dezember!$T11:$AA11) -> 0 | DA12: =SUM(Dezember!$AB11:$AI11) -> 0
B13: =IF(ISBLANK(Mitarbeiter!C10),"",Mitarbeiter!C10) | C13: =Mitarbeiter!D10 -> 0 | D13: =Mitarbeiter!E10 -> 0 | E13: =Mitarbeiter!F10 -> 0 | F13: =Mitarbeiter!G10 -> 0 | G13: =Mitarbeiter!H10 -> 0 | H13: =Mitarbeiter!I10 -> 0 | BF13: =SUM(Jan!E12:K12) -> 0 | BG13: =SUM(Jan!L12:S12) -> 0 | BH13: =SUM(Jan!T12:AA12) -> 0 | BI13: =SUM(Jan!AB12:AI12) -> 0 | BJ13: =SUM(Feb!E12:K12) -> 0 | BK13: =SUM(Feb!L12:R12) -> 0 | BL13: =SUM(Feb!T12:Z12) -> 0 | BM13: =SUM(Feb!AA12:AF12) -> 0 | BN13: =SUM(Mrz!E12:K12) -> 0 | BO13: =SUM(Mrz!L12:S12) -> 0 | BP13: =SUM(Mrz!T12:AA12) -> 0 | BQ13: =SUM(Mrz!AB12:AI12) -> 0 | BR13: =SUM(April!$E12:$K12) -> 0 | BS13: =SUM(April!$L12:$S12) -> 0 | BT13: =SUM(April!$T12:$AA12) -> 0 | BU13: =SUM(April!$AB12:$AI12) -> 0 | BV13: =SUM(Mai!$E12:$K12) -> 0 | BW13: =SUM(Mai!$L12:$S12) -> 0 | BX13: =SUM(Mai!$T12:$AA12) -> 0 | BY13: =SUM(Mai!$AB12:$AI12) -> 0 | BZ13: =SUM(Juni!$E12:$K12) -> 0 | CA13: =SUM(Juni!$L12:$S12) -> 0 | CB13: =SUM(Juni!$T12:$AA12) -> 0 | CC13: =SUM(Juni!$AB12:$AI12) -> 0 | CD13: =SUM(Juli!$E12:$K12) -> 0 | CE13: =SUM(Juli!$L12:$S12) -> 0 | CF13: =SUM(Juli!$T12:$AA12) -> 0 | CG13: =SUM(Juli!$AB12:$AI12) -> 0 | CH13: =SUM(August!$E12:$K12) -> 0 | CI13: =SUM(August!$L12:$S12) -> 0 | CJ13: =SUM(August!$T12:$AA12) -> 0 | CK13: =SUM(August!$AB12:$AI12) -> 0 | CL13: =SUM(September!$E12:$K12) -> 0 | CM13: =SUM(September!$L12:$S12) -> 0 | CN13: =SUM(September!$T12:$AA12) -> 0 | CO13: =SUM(September!$AB12:$AI12) -> 0 | CP13: =SUM(Oktober!$E12:$K12) -> 0 | CQ13: =SUM(Oktober!$L12:$S12) -> 0 | CR13: =SUM(Oktober!$T12:$AA12) -> 0 | CS13: =SUM(Oktober!$AB12:$AI12) -> 0 | CT13: =SUM(November!$E12:$K12) -> 0 | CU13: =SUM(November!$L12:$S12) -> 0 | CV13: =SUM(November!$T12:$AA12) -> 0 | CW13: =SUM(November!$AB12:$AI12) -> 0 | CX13: =SUM(Dezember!$E12:$K12) -> 0 | CY13: =SUM(Dezember!$L12:$S12) -> 0 | CZ13: =SUM(Dezember!$T12:$AA12) -> 0 | DA13: =SUM(Dezember!$AB12:$AI12) -> 0
B14: =IF(ISBLANK(Mitarbeiter!C11),"",Mitarbeiter!C11) | C14: =Mitarbeiter!D11 -> 0 | D14: =Mitarbeiter!E11 -> 0 | E14: =Mitarbeiter!F11 -> 0 | F14: =Mitarbeiter!G11 -> 0 | G14: =Mitarbeiter!H11 -> 0 | H14: =Mitarbeiter!I11 -> 0 | BF14: =SUM(Jan!E13:K13) -> 0 | BG14: =SUM(Jan!L13:S13) -> 0 | BH14: =SUM(Jan!T13:AA13) -> 0 | BI14: =SUM(Jan!AB13:AI13) -> 0 | BJ14: =SUM(Feb!E13:K13) -> 0 | BK14: =SUM(Feb!L13:R13) -> 0 | BL14: =SUM(Feb!T13:Z13) -> 0 | BM14: =SUM(Feb!AA13:AF13) -> 0 | BN14: =SUM(Mrz!E13:K13) -> 0 | BO14: =SUM(Mrz!L13:S13) -> 0 | BP14: =SUM(Mrz!T13:AA13) -> 0 | BQ14: =SUM(Mrz!AB13:AI13) -> 0 | BR14: =SUM(April!$E13:$K13) -> 0 | BS14: =SUM(April!$L13:$S13) -> 0 | BT14: =SUM(April!$T13:$AA13) -> 0 | BU14: =SUM(April!$AB13:$AI13) -> 0 | BV14: =SUM(Mai!$E13:$K13) -> 0 | BW14: =SUM(Mai!$L13:$S13) -> 0 | BX14: =SUM(Mai!$T13:$AA13) -> 0 | BY14: =SUM(Mai!$AB13:$AI13) -> 0 | BZ14: =SUM(Juni!$E13:$K13) -> 0 | CA14: =SUM(Juni!$L13:$S13) -> 0 | CB14: =SUM(Juni!$T13:$AA13) -> 0 | CC14: =SUM(Juni!$AB13:$AI13) -> 0 | CD14: =SUM(Juli!$E13:$K13) -> 0 | CE14: =SUM(Juli!$L13:$S13) -> 0 | CF14: =SUM(Juli!$T13:$AA13) -> 0 | CG14: =SUM(Juli!$AB13:$AI13) -> 0 | CH14: =SUM(August!$E13:$K13) -> 0 | CI14: =SUM(August!$L13:$S13) -> 0 | CJ14: =SUM(August!$T13:$AA13) -> 0 | CK14: =SUM(August!$AB13:$AI13) -> 0 | CL14: =SUM(September!$E13:$K13) -> 0 | CM14: =SUM(September!$L13:$S13) -> 0 | CN14: =SUM(September!$T13:$AA13) -> 0 | CO14: =SUM(September!$AB13:$AI13) -> 0 | CP14: =SUM(Oktober!$E13:$K13) -> 0 | CQ14: =SUM(Oktober!$L13:$S13) -> 0 | CR14: =SUM(Oktober!$T13:$AA13) -> 0 | CS14: =SUM(Oktober!$AB13:$AI13) -> 0 | CT14: =SUM(November!$E13:$K13) -> 0 | CU14: =SUM(November!$L13:$S13) -> 0 | CV14: =SUM(November!$T13:$AA13) -> 0 | CW14: =SUM(November!$AB13:$AI13) -> 0 | CX14: =SUM(Dezember!$E13:$K13) -> 0 | CY14: =SUM(Dezember!$L13:$S13) -> 0 | CZ14: =SUM(Dezember!$T13:$AA13) -> 0 | DA14: =SUM(Dezember!$AB13:$AI13) -> 0
B15: =IF(ISBLANK(Mitarbeiter!C12),"",Mitarbeiter!C12) | C15: =Mitarbeiter!D12 -> 0 | D15: =Mitarbeiter!E12 -> 0 | E15: =Mitarbeiter!F12 -> 0 | F15: =Mitarbeiter!G12 -> 0 | G15: =Mitarbeiter!H12 -> 0 | H15: =Mitarbeiter!I12 -> 0 | BF15: =SUM(Jan!E14:K14) -> 0 | BG15: =SUM(Jan!L14:S14) -> 0 | BH15: =SUM(Jan!T14:AA14) -> 0 | BI15: =SUM(Jan!AB14:AI14) -> 0 | BJ15: =SUM(Feb!E14:K14) -> 0 | BK15: =SUM(Feb!L14:R14) -> 0 | BL15: =SUM(Feb!T14:Z14) -> 0 | BM15: =SUM(Feb!AA14:AF14) -> 0 | BN15: =SUM(Mrz!E14:K14) -> 0 | BO15: =SUM(Mrz!L14:S14) -> 0 | BP15: =SUM(Mrz!T14:AA14) -> 0 | BQ15: =SUM(Mrz!AB14:AI14) -> 0 | BR15: =SUM(April!$E14:$K14) -> 0 | BS15: =SUM(April!$L14:$S14) -> 0 | BT15: =SUM(April!$T14:$AA14) -> 0 | BU15: =SUM(April!$AB14:$AI14) -> 0 | BV15: =SUM(Mai!$E14:$K14) -> 0 | BW15: =SUM(Mai!$L14:$S14) -> 0 | BX15: =SUM(Mai!$T14:$AA14) -> 0 | BY15: =SUM(Mai!$AB14:$AI14) -> 0 | BZ15: =SUM(Juni!$E14:$K14) -> 0 | CA15: =SUM(Juni!$L14:$S14) -> 0 | CB15: =SUM(Juni!$T14:$AA14) -> 0 | CC15: =SUM(Juni!$AB14:$AI14) -> 0 | CD15: =SUM(Juli!$E14:$K14) -> 0 | CE15: =SUM(Juli!$L14:$S14) -> 0 | CF15: =SUM(Juli!$T14:$AA14) -> 0 | CG15: =SUM(Juli!$AB14:$AI14) -> 0 | CH15: =SUM(August!$E14:$K14) -> 0 | CI15: =SUM(August!$L14:$S14) -> 0 | CJ15: =SUM(August!$T14:$AA14) -> 0 | CK15: =SUM(August!$AB14:$AI14) -> 0 | CL15: =SUM(September!$E14:$K14) -> 0 | CM15: =SUM(September!$L14:$S14) -> 0 | CN15: =SUM(September!$T14:$AA14) -> 0 | CO15: =SUM(September!$AB14:$AI14) -> 0 | CP15: =SUM(Oktober!$E14:$K14) -> 0 | CQ15: =SUM(Oktober!$L14:$S14) -> 0 | CR15: =SUM(Oktober!$T14:$AA14) -> 0 | CS15: =SUM(Oktober!$AB14:$AI14) -> 0 | CT15: =SUM(November!$E14:$K14) -> 0 | CU15: =SUM(November!$L14:$S14) -> 0 | CV15: =SUM(November!$T14:$AA14) -> 0 | CW15: =SUM(November!$AB14:$AI14) -> 0 | CX15: =SUM(Dezember!$E14:$K14) -> 0 | CY15: =SUM(Dezember!$L14:$S14) -> 0 | CZ15: =SUM(Dezember!$T14:$AA14) -> 0 | DA15: =SUM(Dezember!$AB14:$AI14) -> 0
B16: =IF(ISBLANK(Mitarbeiter!C13),"",Mitarbeiter!C13) | C16: =Mitarbeiter!D13 -> 0 | D16: =Mitarbeiter!E13 -> 0 | E16: =Mitarbeiter!F13 -> 0 | F16: =Mitarbeiter!G13 -> 0 | G16: =Mitarbeiter!H13 -> 0 | H16: =Mitarbeiter!I13 -> 0 | BF16: =SUM(Jan!E15:K15) -> 0 | BG16: =SUM(Jan!L15:S15) -> 0 | BH16: =SUM(Jan!T15:AA15) -> 0 | BI16: =SUM(Jan!AB15:AI15) -> 0 | BJ16: =SUM(Feb!E15:K15) -> 0 | BK16: =SUM(Feb!L15:R15) -> 0 | BL16: =SUM(Feb!T15:Z15) -> 0 | BM16: =SUM(Feb!AA15:AF15) -> 0 | BN16: =SUM(Mrz!E15:K15) -> 0 | BO16: =SUM(Mrz!L15:S15) -> 0 | BP16: =SUM(Mrz!T15:AA15) -> 0 | BQ16: =SUM(Mrz!AB15:AI15) -> 0 | BR16: =SUM(April!$E15:$K15) -> 0 | BS16: =SUM(April!$L15:$S15) -> 0 | BT16: =SUM(April!$T15:$AA15) -> 0 | BU16: =SUM(April!$AB15:$AI15) -> 0 | BV16: =SUM(Mai!$E15:$K15) -> 0 | BW16: =SUM(Mai!$L15:$S15) -> 0 | BX16: =SUM(Mai!$T15:$AA15) -> 0 | BY16: =SUM(Mai!$AB15:$AI15) -> 0 | BZ16: =SUM(Juni!$E15:$K15) -> 0 | CA16: =SUM(Juni!$L15:$S15) -> 0 | CB16: =SUM(Juni!$T15:$AA15) -> 0 | CC16: =SUM(Juni!$AB15:$AI15) -> 0 | CD16: =SUM(Juli!$E15:$K15) -> 0 | CE16: =SUM(Juli!$L15:$S15) -> 0 | CF16: =SUM(Juli!$T15:$AA15) -> 0 | CG16: =SUM(Juli!$AB15:$AI15) -> 0 | CH16: =SUM(August!$E15:$K15) -> 0 | CI16: =SUM(August!$L15:$S15) -> 0 | CJ16: =SUM(August!$T15:$AA15) -> 0 | CK16: =SUM(August!$AB15:$AI15) -> 0 | CL16: =SUM(September!$E15:$K15) -> 0 | CM16: =SUM(September!$L15:$S15) -> 0 | CN16: =SUM(September!$T15:$AA15) -> 0 | CO16: =SUM(September!$AB15:$AI15) -> 0 | CP16: =SUM(Oktober!$E15:$K15) -> 0 | CQ16: =SUM(Oktober!$L15:$S15) -> 0 | CR16: =SUM(Oktober!$T15:$AA15) -> 0 | CS16: =SUM(Oktober!$AB15:$AI15) -> 0 | CT16: =SUM(November!$E15:$K15) -> 0 | CU16: =SUM(November!$L15:$S15) -> 0 | CV16: =SUM(November!$T15:$AA15) -> 0 | CW16: =SUM(November!$AB15:$AI15) -> 0 | CX16: =SUM(Dezember!$E15:$K15) -> 0 | CY16: =SUM(Dezember!$L15:$S15) -> 0 | CZ16: =SUM(Dezember!$T15:$AA15) -> 0 | DA16: =SUM(Dezember!$AB15:$AI15) -> 0
B17: =IF(ISBLANK(Mitarbeiter!C14),"",Mitarbeiter!C14) | C17: =Mitarbeiter!D14 -> 0 | D17: =Mitarbeiter!E14 -> 0 | E17: =Mitarbeiter!F14 -> 0 | F17: =Mitarbeiter!G14 -> 0 | G17: =Mitarbeiter!H14 -> 0 | H17: =Mitarbeiter!I14 -> 0 | BF17: =SUM(Jan!E16:K16) -> 0 | BG17: =SUM(Jan!L16:S16) -> 0 | BH17: =SUM(Jan!T16:AA16) -> 0 | BI17: =SUM(Jan!AB16:AI16) -> 0 | BJ17: =SUM(Feb!E16:K16) -> 0 | BK17: =SUM(Feb!L16:R16) -> 0 | BL17: =SUM(Feb!T16:Z16) -> 0 | BM17: =SUM(Feb!AA16:AF16) -> 0 | BN17: =SUM(Mrz!E16:K16) -> 0 | BO17: =SUM(Mrz!L16:S16) -> 0 | BP17: =SUM(Mrz!T16:AA16) -> 0 | BQ17: =SUM(Mrz!AB16:AI16) -> 0 | BR17: =SUM(April!$E16:$K16) -> 0 | BS17: =SUM(April!$L16:$S16) -> 0 | BT17: =SUM(April!$T16:$AA16) -> 0 | BU17: =SUM(April!$AB16:$AI16) -> 0 | BV17: =SUM(Mai!$E16:$K16) -> 0 | BW17: =SUM(Mai!$L16:$S16) -> 0 | BX17: =SUM(Mai!$T16:$AA16) -> 0 | BY17: =SUM(Mai!$AB16:$AI16) -> 0 | BZ17: =SUM(Juni!$E16:$K16) -> 0 | CA17: =SUM(Juni!$L16:$S16) -> 0 | CB17: =SUM(Juni!$T16:$AA16) -> 0 | CC17: =SUM(Juni!$AB16:$AI16) -> 0 | CD17: =SUM(Juli!$E16:$K16) -> 0 | CE17: =SUM(Juli!$L16:$S16) -> 0 | CF17: =SUM(Juli!$T16:$AA16) -> 0 | CG17: =SUM(Juli!$AB16:$AI16) -> 0 | CH17: =SUM(August!$E16:$K16) -> 0 | CI17: =SUM(August!$L16:$S16) -> 0 | CJ17: =SUM(August!$T16:$AA16) -> 0 | CK17: =SUM(August!$AB16:$AI16) -> 0 | CL17: =SUM(September!$E16:$K16) -> 0 | CM17: =SUM(September!$L16:$S16) -> 0 | CN17: =SUM(September!$T16:$AA16) -> 0 | CO17: =SUM(September!$AB16:$AI16) -> 0 | CP17: =SUM(Oktober!$E16:$K16) -> 0 | CQ17: =SUM(Oktober!$L16:$S16) -> 0 | CR17: =SUM(Oktober!$T16:$AA16) -> 0 | CS17: =SUM(Oktober!$AB16:$AI16) -> 0 | CT17: =SUM(November!$E16:$K16) -> 0 | CU17: =SUM(November!$L16:$S16) -> 0 | CV17: =SUM(November!$T16:$AA16) -> 0 | CW17: =SUM(November!$AB16:$AI16) -> 0 | CX17: =SUM(Dezember!$E16:$K16) -> 0 | CY17: =SUM(Dezember!$L16:$S16) -> 0 | CZ17: =SUM(Dezember!$T16:$AA16) -> 0 | DA17: =SUM(Dezember!$AB16:$AI16) -> 0
B18: =IF(ISBLANK(Mitarbeiter!C15),"",Mitarbeiter!C15) | C18: =Mitarbeiter!D15 -> 0 | D18: =Mitarbeiter!E15 -> 0 | E18: =Mitarbeiter!F15 -> 0 | F18: =Mitarbeiter!G15 -> 0 | G18: =Mitarbeiter!H15 -> 0 | H18: =Mitarbeiter!I15 -> 0 | BF18: =SUM(Jan!E17:K17) -> 0 | BG18: =SUM(Jan!L17:S17) -> 0 | BH18: =SUM(Jan!T17:AA17) -> 0 | BI18: =SUM(Jan!AB17:AI17) -> 0 | BJ18: =SUM(Feb!E17:K17) -> 0 | BK18: =SUM(Feb!L17:R17) -> 0 | BL18: =SUM(Feb!T17:Z17) -> 0 | BM18: =SUM(Feb!AA17:AF17) -> 0 | BN18: =SUM(Mrz!E17:K17) -> 0 | BO18: =SUM(Mrz!L17:S17) -> 0 | BP18: =SUM(Mrz!T17:AA17) -> 0 | BQ18: =SUM(Mrz!AB17:AI17) -> 0 | BR18: =SUM(April!$E17:$K17) -> 0 | BS18: =SUM(April!$L17:$S17) -> 0 | BT18: =SUM(April!$T17:$AA17) -> 0 | BU18: =SUM(April!$AB17:$AI17) -> 0 | BV18: =SUM(Mai!$E17:$K17) -> 0 | BW18: =SUM(Mai!$L17:$S17) -> 0 | BX18: =SUM(Mai!$T17:$AA17) -> 0 | BY18: =SUM(Mai!$AB17:$AI17) -> 0 | BZ18: =SUM(Juni!$E17:$K17) -> 0 | CA18: =SUM(Juni!$L17:$S17) -> 0 | CB18: =SUM(Juni!$T17:$AA17) -> 0 | CC18: =SUM(Juni!$AB17:$AI17) -> 0 | CD18: =SUM(Juli!$E17:$K17) -> 0 | CE18: =SUM(Juli!$L17:$S17) -> 0 | CF18: =SUM(Juli!$T17:$AA17) -> 0 | CG18: =SUM(Juli!$AB17:$AI17) -> 0 | CH18: =SUM(August!$E17:$K17) -> 0 | CI18: =SUM(August!$L17:$S17) -> 0 | CJ18: =SUM(August!$T17:$AA17) -> 0 | CK18: =SUM(August!$AB17:$AI17) -> 0 | CL18: =SUM(September!$E17:$K17) -> 0 | CM18: =SUM(September!$L17:$S17) -> 0 | CN18: =SUM(September!$T17:$AA17) -> 0 | CO18: =SUM(September!$AB17:$AI17) -> 0 | CP18: =SUM(Oktober!$E17:$K17) -> 0 | CQ18: =SUM(Oktober!$L17:$S17) -> 0 | CR18: =SUM(Oktober!$T17:$AA17) -> 0 | CS18: =SUM(Oktober!$AB17:$AI17) -> 0 | CT18: =SUM(November!$E17:$K17) -> 0 | CU18: =SUM(November!$L17:$S17) -> 0 | CV18: =SUM(November!$T17:$AA17) -> 0 | CW18: =SUM(November!$AB17:$AI17) -> 0 | CX18: =SUM(Dezember!$E17:$K17) -> 0 | CY18: =SUM(Dezember!$L17:$S17) -> 0 | CZ18: =SUM(Dezember!$T17:$AA17) -> 0 | DA18: =SUM(Dezember!$AB17:$AI17) -> 0
B19: =IF(ISBLANK(Mitarbeiter!C16),"",Mitarbeiter!C16) | C19: =Mitarbeiter!D16 -> 0 | D19: =Mitarbeiter!E16 -> 0 | E19: =Mitarbeiter!F16 -> 0 | F19: =Mitarbeiter!G16 -> 0 | G19: =Mitarbeiter!H16 -> 0 | H19: =Mitarbeiter!I16 -> 0 | BF19: =SUM(Jan!E18:K18) -> 0 | BG19: =SUM(Jan!L18:S18) -> 0 | BH19: =SUM(Jan!T18:AA18) -> 0 | BI19: =SUM(Jan!AB18:AI18) -> 0 | BJ19: =SUM(Feb!E18:K18) -> 0 | BK19: =SUM(Feb!L18:R18) -> 0 | BL19: =SUM(Feb!T18:Z18) -> 0 | BM19: =SUM(Feb!AA18:AF18) -> 0 | BN19: =SUM(Mrz!E18:K18) -> 0 | BO19: =SUM(Mrz!L18:S18) -> 0 | BP19: =SUM(Mrz!T18:AA18) -> 0 | BQ19: =SUM(Mrz!AB18:AI18) -> 0 | BR19: =SUM(April!$E18:$K18) -> 0 | BS19: =SUM(April!$L18:$S18) -> 0 | BT19: =SUM(April!$T18:$AA18) -> 0 | BU19: =SUM(April!$AB18:$AI18) -> 0 | BV19: =SUM(Mai!$E18:$K18) -> 0 | BW19: =SUM(Mai!$L18:$S18) -> 0 | BX19: =SUM(Mai!$T18:$AA18) -> 0 | BY19: =SUM(Mai!$AB18:$AI18) -> 0 | BZ19: =SUM(Juni!$E18:$K18) -> 0 | CA19: =SUM(Juni!$L18:$S18) -> 0 | CB19: =SUM(Juni!$T18:$AA18) -> 0 | CC19: =SUM(Juni!$AB18:$AI18) -> 0 | CD19: =SUM(Juli!$E18:$K18) -> 0 | CE19: =SUM(Juli!$L18:$S18) -> 0 | CF19: =SUM(Juli!$T18:$AA18) -> 0 | CG19: =SUM(Juli!$AB18:$AI18) -> 0 | CH19: =SUM(August!$E18:$K18) -> 0 | CI19: =SUM(August!$L18:$S18) -> 0 | CJ19: =SUM(August!$T18:$AA18) -> 0 | CK19: =SUM(August!$AB18:$AI18) -> 0 | CL19: =SUM(September!$E18:$K18) -> 0 | CM19: =SUM(September!$L18:$S18) -> 0 | CN19: =SUM(September!$T18:$AA18) -> 0 | CO19: =SUM(September!$AB18:$AI18) -> 0 | CP19: =SUM(Oktober!$E18:$K18) -> 0 | CQ19: =SUM(Oktober!$L18:$S18) -> 0 | CR19: =SUM(Oktober!$T18:$AA18) -> 0 | CS19: =SUM(Oktober!$AB18:$AI18) -> 0 | CT19: =SUM(November!$E18:$K18) -> 0 | CU19: =SUM(November!$L18:$S18) -> 0 | CV19: =SUM(November!$T18:$AA18) -> 0 | CW19: =SUM(November!$AB18:$AI18) -> 0 | CX19: =SUM(Dezember!$E18:$K18) -> 0 | CY19: =SUM(Dezember!$L18:$S18) -> 0 | CZ19: =SUM(Dezember!$T18:$AA18) -> 0 | DA19: =SUM(Dezember!$AB18:$AI18) -> 0
B20: =IF(ISBLANK(Mitarbeiter!C17),"",Mitarbeiter!C17) | C20: =Mitarbeiter!D17 -> 0 | D20: =Mitarbeiter!E17 -> 0 | E20: =Mitarbeiter!F17 -> 0 | F20: =Mitarbeiter!G17 -> 0 | G20: =Mitarbeiter!H17 -> 0 | H20: =Mitarbeiter!I17 -> 0 | BF20: =SUM(Jan!E19:K19) -> 0 | BG20: =SUM(Jan!L19:S19) -> 0 | BH20: =SUM(Jan!T19:AA19) -> 0 | BI20: =SUM(Jan!AB19:AI19) -> 0 | BJ20: =SUM(Feb!E19:K19) -> 0 | BK20: =SUM(Feb!L19:R19) -> 0 | BL20: =SUM(Feb!T19:Z19) -> 0 | BM20: =SUM(Feb!AA19:AF19) -> 0 | BN20: =SUM(Mrz!E19:K19) -> 0 | BO20: =SUM(Mrz!L19:S19) -> 0 | BP20: =SUM(Mrz!T19:AA19) -> 0 | BQ20: =SUM(Mrz!AB19:AI19) -> 0 | BR20: =SUM(April!$E19:$K19) -> 0 | BS20: =SUM(April!$L19:$S19) -> 0 | BT20: =SUM(April!$T19:$AA19) -> 0 | BU20: =SUM(April!$AB19:$AI19) -> 0 | BV20: =SUM(Mai!$E19:$K19) -> 0 | BW20: =SUM(Mai!$L19:$S19) -> 0 | BX20: =SUM(Mai!$T19:$AA19) -> 0 | BY20: =SUM(Mai!$AB19:$AI19) -> 0 | BZ20: =SUM(Juni!$E19:$K19) -> 0 | CA20: =SUM(Juni!$L19:$S19) -> 0 | CB20: =SUM(Juni!$T19:$AA19) -> 0 | CC20: =SUM(Juni!$AB19:$AI19) -> 0 | CD20: =SUM(Juli!$E19:$K19) -> 0 | CE20: =SUM(Juli!$L19:$S19) -> 0 | CF20: =SUM(Juli!$T19:$AA19) -> 0 | CG20: =SUM(Juli!$AB19:$AI19) -> 0 | CH20: =SUM(August!$E19:$K19) -> 0 | CI20: =SUM(August!$L19:$S19) -> 0 | CJ20: =SUM(August!$T19:$AA19) -> 0 | CK20: =SUM(August!$AB19:$AI19) -> 0 | CL20: =SUM(September!$E19:$K19) -> 0 | CM20: =SUM(September!$L19:$S19) -> 0 | CN20: =SUM(September!$T19:$AA19) -> 0 | CO20: =SUM(September!$AB19:$AI19) -> 0 | CP20: =SUM(Oktober!$E19:$K19) -> 0 | CQ20: =SUM(Oktober!$L19:$S19) -> 0 | CR20: =SUM(Oktober!$T19:$AA19) -> 0 | CS20: =SUM(Oktober!$AB19:$AI19) -> 0 | CT20: =SUM(November!$E19:$K19) -> 0 | CU20: =SUM(November!$L19:$S19) -> 0 | CV20: =SUM(November!$T19:$AA19) -> 0 | CW20: =SUM(November!$AB19:$AI19) -> 0 | CX20: =SUM(Dezember!$E19:$K19) -> 0 | CY20: =SUM(Dezember!$L19:$S19) -> 0 | CZ20: =SUM(Dezember!$T19:$AA19) -> 0 | DA20: =SUM(Dezember!$AB19:$AI19) -> 0
B21: =IF(ISBLANK(Mitarbeiter!C18),"",Mitarbeiter!C18) | C21: =Mitarbeiter!D18 -> 0 | D21: =Mitarbeiter!E18 -> 0 | E21: =Mitarbeiter!F18 -> 0 | F21: =Mitarbeiter!G18 -> 0 | G21: =Mitarbeiter!H18 -> 0 | H21: =Mitarbeiter!I18 -> 0 | BF21: =SUM(Jan!E20:K20) -> 0 | BG21: =SUM(Jan!L20:S20) -> 0 | BH21: =SUM(Jan!T20:AA20) -> 0 | BI21: =SUM(Jan!AB20:AI20) -> 0 | BJ21: =SUM(Feb!E20:K20) -> 0 | BK21: =SUM(Feb!L20:R20) -> 0 | BL21: =SUM(Feb!T20:Z20) -> 0 | BM21: =SUM(Feb!AA20:AF20) -> 0 | BN21: =SUM(Mrz!E20:K20) -> 0 | BO21: =SUM(Mrz!L20:S20) -> 0 | BP21: =SUM(Mrz!T20:AA20) -> 0 | BQ21: =SUM(Mrz!AB20:AI20) -> 0 | BR21: =SUM(April!$E20:$K20) -> 0 | BS21: =SUM(April!$L20:$S20) -> 0 | BT21: =SUM(April!$T20:$AA20) -> 0 | BU21: =SUM(April!$AB20:$AI20) -> 0 | BV21: =SUM(Mai!$E20:$K20) -> 0 | BW21: =SUM(Mai!$L20:$S20) -> 0 | BX21: =SUM(Mai!$T20:$AA20) -> 0 | BY21: =SUM(Mai!$AB20:$AI20) -> 0 | BZ21: =SUM(Juni!$E20:$K20) -> 0 | CA21: =SUM(Juni!$L20:$S20) -> 0 | CB21: =SUM(Juni!$T20:$AA20) -> 0 | CC21: =SUM(Juni!$AB20:$AI20) -> 0 | CD21: =SUM(Juli!$E20:$K20) -> 0 | CE21: =SUM(Juli!$L20:$S20) -> 0 | CF21: =SUM(Juli!$T20:$AA20) -> 0 | CG21: =SUM(Juli!$AB20:$AI20) -> 0 | CH21: =SUM(August!$E20:$K20) -> 0 | CI21: =SUM(August!$L20:$S20) -> 0 | CJ21: =SUM(August!$T20:$AA20) -> 0 | CK21: =SUM(August!$AB20:$AI20) -> 0 | CL21: =SUM(September!$E20:$K20) -> 0 | CM21: =SUM(September!$L20:$S20) -> 0 | CN21: =SUM(September!$T20:$AA20) -> 0 | CO21: =SUM(September!$AB20:$AI20) -> 0 | CP21: =SUM(Oktober!$E20:$K20) -> 0 | CQ21: =SUM(Oktober!$L20:$S20) -> 0 | CR21: =SUM(Oktober!$T20:$AA20) -> 0 | CS21: =SUM(Oktober!$AB20:$AI20) -> 0 | CT21: =SUM(November!$E20:$K20) -> 0 | CU21: =SUM(November!$L20:$S20) -> 0 | CV21: =SUM(November!$T20:$AA20) -> 0 | CW21: =SUM(November!$AB20:$AI20) -> 0 | CX21: =SUM(Dezember!$E20:$K20) -> 0 | CY21: =SUM(Dezember!$L20:$S20) -> 0 | CZ21: =SUM(Dezember!$T20:$AA20) -> 0 | DA21: =SUM(Dezember!$AB20:$AI20) -> 0
... B78: =IF(ISBLANK(Mitarbeiter!C75),"",Mitarbeiter!C75) | C78: =Mitarbeiter!D75 -> 0 | D78: =Mitarbeiter!E75 -> 0 | E78: =Mitarbeiter!F75 -> 0 | F78: =Mitarbeiter!G75 -> 0 | G78: =Mitarbeiter!H75 -> 0 | H78: =Mitarbeiter!I75 -> 0 | BF78: =SUM(Jan!E77:K77) -> 0 | BG78: =SUM(Jan!L77:S77) -> 0 | BH78: =SUM(Jan!T77:AA77) -> 0 | BI78: =SUM(Jan!AB77:AI77) -> 0 | BJ78: =SUM(Feb!E77:K77) -> 0 | BK78: =SUM(Feb!L77:R77) -> 0 | BL78: =SUM(Feb!T77:Z77) -> 0 | BM78: =SUM(Feb!AA77:AF77) -> 0 | BN78: =SUM(Mrz!E77:K77) -> 0 | BO78: =SUM(Mrz!L77:S77) -> 0 | BP78: =SUM(Mrz!T77:AA77) -> 0 | BQ78: =SUM(Mrz!AB77:AI77) -> 0 | BR78: =SUM(April!$E77:$K77) -> 0 | BS78: =SUM(April!$L77:$S77) -> 0 | BT78: =SUM(April!$T77:$AA77) -> 0 | BU78: =SUM(April!$AB77:$AI77) -> 0 | BV78: =SUM(Mai!$E77:$K77) -> 0 | BW78: =SUM(Mai!$L77:$S77) -> 0 | BX78: =SUM(Mai!$T77:$AA77) -> 0 | BY78: =SUM(Mai!$AB77:$AI77) -> 0 | BZ78: =SUM(Juni!$E77:$K77) -> 0 | CA78: =SUM(Juni!$L77:$S77) -> 0 | CB78: =SUM(Juni!$T77:$AA77) -> 0 | CC78: =SUM(Juni!$AB77:$AI77) -> 0 | CD78: =SUM(Juli!$E77:$K77) -> 0 | CE78: =SUM(Juli!$L77:$S77) -> 0 | CF78: =SUM(Juli!$T77:$AA77) -> 0 | CG78: =SUM(Juli!$AB77:$AI77) -> 0 | CH78: =SUM(August!$E77:$K77) -> 0 | CI78: =SUM(August!$L77:$S77) -> 0 | CJ78: =SUM(August!$T77:$AA77) -> 0 | CK78: =SUM(August!$AB77:$AI77) -> 0 | CL78: =SUM(September!$E77:$K77) -> 0 | CM78: =SUM(September!$L77:$S77) -> 0 | CN78: =SUM(September!$T77:$AA77) -> 0 | CO78: =SUM(September!$AB77:$AI77) -> 0 | CP78: =SUM(Oktober!$E77:$K77) -> 0 | CQ78: =SUM(Oktober!$L77:$S77) -> 0 | CR78: =SUM(Oktober!$T77:$AA77) -> 0 | CS78: =SUM(Oktober!$AB77:$AI77) -> 0 | CT78: =SUM(November!$E77:$K77) -> 0 | CU78: =SUM(November!$L77:$S77) -> 0 | CV78: =SUM(November!$T77:$AA77) -> 0 | CW78: =SUM(November!$AB77:$AI77) -> 0 | CX78: =SUM(Dezember!$E77:$K77) -> 0 | CY78: =SUM(Dezember!$L77:$S77) -> 0 | CZ78: =SUM(Dezember!$T77:$AA77) -> 0 | DA78: =SUM(Dezember!$AB77:$AI77) -> 0

Sheet Jan
AI1: 1
B2: =CONCATENATE("Urlaubskalender, ",INDEX(monate,AI1,)," ",sys!J1) -> Urlaubskalender, Januar 2027
B4: Mitarbeiter | C4: Urlaubstage | D4: Krankheitstage | E4: =DATE(sys!J1,AI1,1) -> 46388 | F4: =E4+1 -> 46389 | G4: =F4+1 -> 46390 | H4: =G4+1 -> 46391 | I4: =H4+1 -> 46392 | J4: =I4+1 -> 46393 | K4: =J4+1 -> 46394 | L4: =K4+1 -> 46395 | M4: =L4+1 -> 46396 | ... AI4: =AH4+1 -> 46418
B5: ist feiertag | E5: =COUNTIF(feiertage,E4) -> 1 | F5: =COUNTIF(feiertage,F4) -> 0 | G5: =COUNTIF(feiertage,G4) -> 0 | H5: =COUNTIF(feiertage,H4) -> 0 | I5: =COUNTIF(feiertage,I4) -> 0 | J5: =COUNTIF(feiertage,J4) -> 1 | K5: =COUNTIF(feiertage,K4) -> 0 | L5: =COUNTIF(feiertage,L4) -> 0 | ... AI5: =COUNTIF(feiertage,AI4) -> 0
B6: wochentagnummer | E6: =WEEKDAY(E4,2) -> 5 | F6: =WEEKDAY(F4,2) -> 6 | G6: =WEEKDAY(G4,2) -> 7 | H6: =WEEKDAY(H4,2) -> 1 | I6: =WEEKDAY(I4,2) -> 2 | J6: =WEEKDAY(J4,2) -> 3 | K6: =WEEKDAY(K4,2) -> 4 | L6: =WEEKDAY(L4,2) -> 5 | ... AI6: =WEEKDAY(AI4,2) -> 7
E7: =INDEX(sys!$B$1:$C$7,E$6,2) -> Fr | F7: =INDEX(sys!$B$1:$C$7,F$6,2) -> Sa | G7: =INDEX(sys!$B$1:$C$7,G$6,2) -> So | H7: =INDEX(sys!$B$1:$C$7,H$6,2) -> Mo | I7: =INDEX(sys!$B$1:$C$7,I$6,2) -> Di | J7: =INDEX(sys!$B$1:$C$7,J$6,2) -> Mi | K7: =INDEX(sys!$B$1:$C$7,K$6,2) -> Do | L7: =INDEX(sys!$B$1:$C$7,L$6,2) -> Fr | ... AI7: =INDEX(sys!$B$1:$C$7,AI$6,2) -> So | AL7: 1 | AM7: 2 | AN7: 3 | AO7: 4 | AP7: 5 | AQ7: 6 | AR7: 7 | AS7: 8 | AT7: 9 | AU7: 10 | AV7: 11 | AW7: 12 | AX7: 13 | AY7: 14 | AZ7: 15 | BA7: 16 | BB7: 17 | BC7: 18 | BD7: 19 | BE7: 20 | BF7: 21 | BG7: 22 | BH7: 23 | BI7: 24 | BJ7: 25 | BK7: 26 | BL7: 27 | BM7: 28 | BN7: 29 | BO7: 30 | BP7: 31
B8: =AK8 | C8: =C80 -> 0 | D8: =SUM(AL8:BP8) -> 0 | AJ8: =IF(ISBLANK(Mitarbeiter!B6),"",Mitarbeiter!B6+1) -> 6 | AK8: =IF(ISBLANK(Mitarbeiter!C6),"",Mitarbeiter!C6) | AL8: =IF(AND(E8="k",E$5=0,E$6<$AJ8),IF(CODE(E8)=75,0.5,1),0) -> 0 | AM8: =IF(AND(F8="k",F$5=0,F$6<$AJ8),IF(CODE(F8)=75,0.5,1),0) -> 0 | AN8: =IF(AND(G8="k",G$5=0,G$6<$AJ8),IF(CODE(G8)=75,0.5,1),0) -> 0 | AO8: =IF(AND(H8="k",H$5=0,H$6<$AJ8),IF(CODE(H8)=75,0.5,1),0) -> 0 | AP8: =IF(AND(I8="k",I$5=0,I$6<$AJ8),IF(CODE(I8)=75,0.5,1),0) -> 0 | AQ8: =IF(AND(J8="k",J$5=0,J$6<$AJ8),IF(CODE(J8)=75,0.5,1),0) -> 0 | AR8: =IF(AND(K8="k",K$5=0,K$6<$AJ8),IF(CODE(K8)=75,0.5,1),0) -> 0 | AS8: =IF(AND(L8="k",L$5=0,L$6<$AJ8),IF(CODE(L8)=75,0.5,1),0) -> 0 | ... BP8: =IF(AND(AI8="k",AI$5=0,AI$6<$AJ8),IF(CODE(AI8)=75,0.5,1),0) -> 0
B9: =AK9 | C9: =C81 -> 0 | D9: =SUM(AL9:BP9) -> 0 | AJ9: =IF(ISBLANK(Mitarbeiter!B7),"",Mitarbeiter!B7+1) -> 6 | AK9: =IF(ISBLANK(Mitarbeiter!C7),"",Mitarbeiter!C7) | AL9: =IF(AND(E9="k",E$5=0,E$6<$AJ9),IF(CODE(E9)=75,0.5,1),0) -> 0 | AM9: =IF(AND(F9="k",F$5=0,F$6<$AJ9),IF(CODE(F9)=75,0.5,1),0) -> 0 | AN9: =IF(AND(G9="k",G$5=0,G$6<$AJ9),IF(CODE(G9)=75,0.5,1),0) -> 0 | AO9: =IF(AND(H9="k",H$5=0,H$6<$AJ9),IF(CODE(H9)=75,0.5,1),0) -> 0 | AP9: =IF(AND(I9="k",I$5=0,I$6<$AJ9),IF(CODE(I9)=75,0.5,1),0) -> 0 | AQ9: =IF(AND(J9="k",J$5=0,J$6<$AJ9),IF(CODE(J9)=75,0.5,1),0) -> 0 | AR9: =IF(AND(K9="k",K$5=0,K$6<$AJ9),IF(CODE(K9)=75,0.5,1),0) -> 0 | AS9: =IF(AND(L9="k",L$5=0,L$6<$AJ9),IF(CODE(L9)=75,0.5,1),0) -> 0 | ... BP9: =IF(AND(AI9="k",AI$5=0,AI$6<$AJ9),IF(CODE(AI9)=75,0.5,1),0) -> 0
B10: =AK10 | C10: =C82 -> 0 | D10: =SUM(AL10:BP10) -> 0 | AJ10: =IF(ISBLANK(Mitarbeiter!B8),"",Mitarbeiter!B8+1) -> 6 | AK10: =IF(ISBLANK(Mitarbeiter!C8),"",Mitarbeiter!C8) | AL10: =IF(AND(E10="k",E$5=0,E$6<$AJ10),IF(CODE(E10)=75,0.5,1),0) -> 0 | AM10: =IF(AND(F10="k",F$5=0,F$6<$AJ10),IF(CODE(F10)=75,0.5,1),0) -> 0 | AN10: =IF(AND(G10="k",G$5=0,G$6<$AJ10),IF(CODE(G10)=75,0.5,1),0) -> 0 | AO10: =IF(AND(H10="k",H$5=0,H$6<$AJ10),IF(CODE(H10)=75,0.5,1),0) -> 0 | AP10: =IF(AND(I10="k",I$5=0,I$6<$AJ10),IF(CODE(I10)=75,0.5,1),0) -> 0 | AQ10: =IF(AND(J10="k",J$5=0,J$6<$AJ10),IF(CODE(J10)=75,0.5,1),0) -> 0 | AR10: =IF(AND(K10="k",K$5=0,K$6<$AJ10),IF(CODE(K10)=75,0.5,1),0) -> 0 | AS10: =IF(AND(L10="k",L$5=0,L$6<$AJ10),IF(CODE(L10)=75,0.5,1),0) -> 0 | ... BP10: =IF(AND(AI10="k",AI$5=0,AI$6<$AJ10),IF(CODE(AI10)=75,0.5,1),0) -> 0
B11: =AK11 | C11: =C83 -> 0 | D11: =SUM(AL11:BP11) -> 0 | AJ11: =IF(ISBLANK(Mitarbeiter!B9),"",Mitarbeiter!B9+1) -> 6 | AK11: =IF(ISBLANK(Mitarbeiter!C9),"",Mitarbeiter!C9) | AL11: =IF(AND(E11="k",E$5=0,E$6<$AJ11),IF(CODE(E11)=75,0.5,1),0) -> 0 | AM11: =IF(AND(F11="k",F$5=0,F$6<$AJ11),IF(CODE(F11)=75,0.5,1),0) -> 0 | AN11: =IF(AND(G11="k",G$5=0,G$6<$AJ11),IF(CODE(G11)=75,0.5,1),0) -> 0 | AO11: =IF(AND(H11="k",H$5=0,H$6<$AJ11),IF(CODE(H11)=75,0.5,1),0) -> 0 | AP11: =IF(AND(I11="k",I$5=0,I$6<$AJ11),IF(CODE(I11)=75,0.5,1),0) -> 0 | AQ11: =IF(AND(J11="k",J$5=0,J$6<$AJ11),IF(CODE(J11)=75,0.5,1),0) -> 0 | AR11: =IF(AND(K11="k",K$5=0,K$6<$AJ11),IF(CODE(K11)=75,0.5,1),0) -> 0 | AS11: =IF(AND(L11="k",L$5=0,L$6<$AJ11),IF(CODE(L11)=75,0.5,1),0) -> 0 | ... BP11: =IF(AND(AI11="k",AI$5=0,AI$6<$AJ11),IF(CODE(AI11)=75,0.5,1),0) -> 0
B12: =AK12 | C12: =C84 -> 0 | D12: =SUM(AL12:BP12) -> 0 | AJ12: =IF(ISBLANK(Mitarbeiter!B10),"",Mitarbeiter!B10+1) -> 6 | AK12: =IF(ISBLANK(Mitarbeiter!C10),"",Mitarbeiter!C10) | AL12: =IF(AND(E12="k",E$5=0,E$6<$AJ12),IF(CODE(E12)=75,0.5,1),0) -> 0 | AM12: =IF(AND(F12="k",F$5=0,F$6<$AJ12),IF(CODE(F12)=75,0.5,1),0) -> 0 | AN12: =IF(AND(G12="k",G$5=0,G$6<$AJ12),IF(CODE(G12)=75,0.5,1),0) -> 0 | AO12: =IF(AND(H12="k",H$5=0,H$6<$AJ12),IF(CODE(H12)=75,0.5,1),0) -> 0 | AP12: =IF(AND(I12="k",I$5=0,I$6<$AJ12),IF(CODE(I12)=75,0.5,1),0) -> 0 | AQ12: =IF(AND(J12="k",J$5=0,J$6<$AJ12),IF(CODE(J12)=75,0.5,1),0) -> 0 | AR12: =IF(AND(K12="k",K$5=0,K$6<$AJ12),IF(CODE(K12)=75,0.5,1),0) -> 0 | AS12: =IF(AND(L12="k",L$5=0,L$6<$AJ12),IF(CODE(L12)=75,0.5,1),0) -> 0 | ... BP12: =IF(AND(AI12="k",AI$5=0,AI$6<$AJ12),IF(CODE(AI12)=75,0.5,1),0) -> 0
B13: =AK13 | C13: =C85 -> 0 | D13: =SUM(AL13:BP13) -> 0 | AJ13: =IF(ISBLANK(Mitarbeiter!B11),"",Mitarbeiter!B11+1) -> 6 | AK13: =IF(ISBLANK(Mitarbeiter!C11),"",Mitarbeiter!C11) | AL13: =IF(AND(E13="k",E$5=0,E$6<$AJ13),IF(CODE(E13)=75,0.5,1),0) -> 0 | AM13: =IF(AND(F13="k",F$5=0,F$6<$AJ13),IF(CODE(F13)=75,0.5,1),0) -> 0 | AN13: =IF(AND(G13="k",G$5=0,G$6<$AJ13),IF(CODE(G13)=75,0.5,1),0) -> 0 | AO13: =IF(AND(H13="k",H$5=0,H$6<$AJ13),IF(CODE(H13)=75,0.5,1),0) -> 0 | AP13: =IF(AND(I13="k",I$5=0,I$6<$AJ13),IF(CODE(I13)=75,0.5,1),0) -> 0 | AQ13: =IF(AND(J13="k",J$5=0,J$6<$AJ13),IF(CODE(J13)=75,0.5,1),0) -> 0 | AR13: =IF(AND(K13="k",K$5=0,K$6<$AJ13),IF(CODE(K13)=75,0.5,1),0) -> 0 | AS13: =IF(AND(L13="k",L$5=0,L$6<$AJ13),IF(CODE(L13)=75,0.5,1),0) -> 0 | ... BP13: =IF(AND(AI13="k",AI$5=0,AI$6<$AJ13),IF(CODE(AI13)=75,0.5,1),0) -> 0
B14: =AK14 | C14: =C86 -> 0 | D14: =SUM(AL14:BP14) -> 0 | AJ14: =IF(ISBLANK(Mitarbeiter!B12),"",Mitarbeiter!B12+1) -> 6 | AK14: =IF(ISBLANK(Mitarbeiter!C12),"",Mitarbeiter!C12) | AL14: =IF(AND(E14="k",E$5=0,E$6<$AJ14),IF(CODE(E14)=75,0.5,1),0) -> 0 | AM14: =IF(AND(F14="k",F$5=0,F$6<$AJ14),IF(CODE(F14)=75,0.5,1),0) -> 0 | AN14: =IF(AND(G14="k",G$5=0,G$6<$AJ14),IF(CODE(G14)=75,0.5,1),0) -> 0 | AO14: =IF(AND(H14="k",H$5=0,H$6<$AJ14),IF(CODE(H14)=75,0.5,1),0) -> 0 | AP14: =IF(AND(I14="k",I$5=0,I$6<$AJ14),IF(CODE(I14)=75,0.5,1),0) -> 0 | AQ14: =IF(AND(J14="k",J$5=0,J$6<$AJ14),IF(CODE(J14)=75,0.5,1),0) -> 0 | AR14: =IF(AND(K14="k",K$5=0,K$6<$AJ14),IF(CODE(K14)=75,0.5,1),0) -> 0 | AS14: =IF(AND(L14="k",L$5=0,L$6<$AJ14),IF(CODE(L14)=75,0.5,1),0) -> 0 | ... BP14: =IF(AND(AI14="k",AI$5=0,AI$6<$AJ14),IF(CODE(AI14)=75,0.5,1),0) -> 0
B15: =AK15 | C15: =C87 -> 0 | D15: =SUM(AL15:BP15) -> 0 | AJ15: =IF(ISBLANK(Mitarbeiter!B13),"",Mitarbeiter!B13+1) -> 6 | AK15: =IF(ISBLANK(Mitarbeiter!C13),"",Mitarbeiter!C13) | AL15: =IF(AND(E15="k",E$5=0,E$6<$AJ15),IF(CODE(E15)=75,0.5,1),0) -> 0 | AM15: =IF(AND(F15="k",F$5=0,F$6<$AJ15),IF(CODE(F15)=75,0.5,1),0) -> 0 | AN15: =IF(AND(G15="k",G$5=0,G$6<$AJ15),IF(CODE(G15)=75,0.5,1),0) -> 0 | AO15: =IF(AND(H15="k",H$5=0,H$6<$AJ15),IF(CODE(H15)=75,0.5,1),0) -> 0 | AP15: =IF(AND(I15="k",I$5=0,I$6<$AJ15),IF(CODE(I15)=75,0.5,1),0) -> 0 | AQ15: =IF(AND(J15="k",J$5=0,J$6<$AJ15),IF(CODE(J15)=75,0.5,1),0) -> 0 | AR15: =IF(AND(K15="k",K$5=0,K$6<$AJ15),IF(CODE(K15)=75,0.5,1),0) -> 0 | AS15: =IF(AND(L15="k",L$5=0,L$6<$AJ15),IF(CODE(L15)=75,0.5,1),0) -> 0 | ... BP15: =IF(AND(AI15="k",AI$5=0,AI$6<$AJ15),IF(CODE(AI15)=75,0.5,1),0) -> 0
B16: =AK16 | C16: =C88 -> 0 | D16: =SUM(AL16:BP16) -> 0 | AJ16: =IF(ISBLANK(Mitarbeiter!B14),"",Mitarbeiter!B14+1) -> 6 | AK16: =IF(ISBLANK(Mitarbeiter!C14),"",Mitarbeiter!C14) | AL16: =IF(AND(E16="k",E$5=0,E$6<$AJ16),IF(CODE(E16)=75,0.5,1),0) -> 0 | AM16: =IF(AND(F16="k",F$5=0,F$6<$AJ16),IF(CODE(F16)=75,0.5,1),0) -> 0 | AN16: =IF(AND(G16="k",G$5=0,G$6<$AJ16),IF(CODE(G16)=75,0.5,1),0) -> 0 | AO16: =IF(AND(H16="k",H$5=0,H$6<$AJ16),IF(CODE(H16)=75,0.5,1),0) -> 0 | AP16: =IF(AND(I16="k",I$5=0,I$6<$AJ16),IF(CODE(I16)=75,0.5,1),0) -> 0 | AQ16: =IF(AND(J16="k",J$5=0,J$6<$AJ16),IF(CODE(J16)=75,0.5,1),0) -> 0 | AR16: =IF(AND(K16="k",K$5=0,K$6<$AJ16),IF(CODE(K16)=75,0.5,1),0) -> 0 | AS16: =IF(AND(L16="k",L$5=0,L$6<$AJ16),IF(CODE(L16)=75,0.5,1),0) -> 0 | ... BP16: =IF(AND(AI16="k",AI$5=0,AI$6<$AJ16),IF(CODE(AI16)=75,0.5,1),0) -> 0
B17: =AK17 | C17: =C89 -> 0 | D17: =SUM(AL17:BP17) -> 0 | AJ17: =IF(ISBLANK(Mitarbeiter!B15),"",Mitarbeiter!B15+1) -> 6 | AK17: =IF(ISBLANK(Mitarbeiter!C15),"",Mitarbeiter!C15) | AL17: =IF(AND(E17="k",E$5=0,E$6<$AJ17),IF(CODE(E17)=75,0.5,1),0) -> 0 | AM17: =IF(AND(F17="k",F$5=0,F$6<$AJ17),IF(CODE(F17)=75,0.5,1),0) -> 0 | AN17: =IF(AND(G17="k",G$5=0,G$6<$AJ17),IF(CODE(G17)=75,0.5,1),0) -> 0 | AO17: =IF(AND(H17="k",H$5=0,H$6<$AJ17),IF(CODE(H17)=75,0.5,1),0) -> 0 | AP17: =IF(AND(I17="k",I$5=0,I$6<$AJ17),IF(CODE(I17)=75,0.5,1),0) -> 0 | AQ17: =IF(AND(J17="k",J$5=0,J$6<$AJ17),IF(CODE(J17)=75,0.5,1),0) -> 0 | AR17: =IF(AND(K17="k",K$5=0,K$6<$AJ17),IF(CODE(K17)=75,0.5,1),0) -> 0 | AS17: =IF(AND(L17="k",L$5=0,L$6<$AJ17),IF(CODE(L17)=75,0.5,1),0) -> 0 | ... BP17: =IF(AND(AI17="k",AI$5=0,AI$6<$AJ17),IF(CODE(AI17)=75,0.5,1),0) -> 0
B18: =AK18 | C18: =C90 -> 0 | D18: =SUM(AL18:BP18) -> 0 | AJ18: =IF(ISBLANK(Mitarbeiter!B16),"",Mitarbeiter!B16+1) -> 6 | AK18: =IF(ISBLANK(Mitarbeiter!C16),"",Mitarbeiter!C16) | AL18: =IF(AND(E18="k",E$5=0,E$6<$AJ18),IF(CODE(E18)=75,0.5,1),0) -> 0 | AM18: =IF(AND(F18="k",F$5=0,F$6<$AJ18),IF(CODE(F18)=75,0.5,1),0) -> 0 | AN18: =IF(AND(G18="k",G$5=0,G$6<$AJ18),IF(CODE(G18)=75,0.5,1),0) -> 0 | AO18: =IF(AND(H18="k",H$5=0,H$6<$AJ18),IF(CODE(H18)=75,0.5,1),0) -> 0 | AP18: =IF(AND(I18="k",I$5=0,I$6<$AJ18),IF(CODE(I18)=75,0.5,1),0) -> 0 | AQ18: =IF(AND(J18="k",J$5=0,J$6<$AJ18),IF(CODE(J18)=75,0.5,1),0) -> 0 | AR18: =IF(AND(K18="k",K$5=0,K$6<$AJ18),IF(CODE(K18)=75,0.5,1),0) -> 0 | AS18: =IF(AND(L18="k",L$5=0,L$6<$AJ18),IF(CODE(L18)=75,0.5,1),0) -> 0 | ... BP18: =IF(AND(AI18="k",AI$5=0,AI$6<$AJ18),IF(CODE(AI18)=75,0.5,1),0) -> 0
B19: =AK19 | C19: =C91 -> 0 | D19: =SUM(AL19:BP19) -> 0 | AJ19: =IF(ISBLANK(Mitarbeiter!B17),"",Mitarbeiter!B17+1) -> 6 | AK19: =IF(ISBLANK(Mitarbeiter!C17),"",Mitarbeiter!C17) | AL19: =IF(AND(E19="k",E$5=0,E$6<$AJ19),IF(CODE(E19)=75,0.5,1),0) -> 0 | AM19: =IF(AND(F19="k",F$5=0,F$6<$AJ19),IF(CODE(F19)=75,0.5,1),0) -> 0 | AN19: =IF(AND(G19="k",G$5=0,G$6<$AJ19),IF(CODE(G19)=75,0.5,1),0) -> 0 | AO19: =IF(AND(H19="k",H$5=0,H$6<$AJ19),IF(CODE(H19)=75,0.5,1),0) -> 0 | AP19: =IF(AND(I19="k",I$5=0,I$6<$AJ19),IF(CODE(I19)=75,0.5,1),0) -> 0 | AQ19: =IF(AND(J19="k",J$5=0,J$6<$AJ19),IF(CODE(J19)=75,0.5,1),0) -> 0 | AR19: =IF(AND(K19="k",K$5=0,K$6<$AJ19),IF(CODE(K19)=75,0.5,1),0) -> 0 | AS19: =IF(AND(L19="k",L$5=0,L$6<$AJ19),IF(CODE(L19)=75,0.5,1),0) -> 0 | ... BP19: =IF(AND(AI19="k",AI$5=0,AI$6<$AJ19),IF(CODE(AI19)=75,0.5,1),0) -> 0
... B78: =AK78 | C78: =C150 -> 0 | D78: =SUM(AL78:BP78) -> 0 | AJ78: =IF(ISBLANK(Mitarbeiter!B76),"",Mitarbeiter!B76+1) -> 6 | AK78: =IF(ISBLANK(Mitarbeiter!C76),"",Mitarbeiter!C76) | AL78: =IF(AND(E78="k",E$5=0,E$6<$AJ78),IF(CODE(E78)=75,0.5,1),0) -> 0 | AM78: =IF(AND(F78="k",F$5=0,F$6<$AJ78),IF(CODE(F78)=75,0.5,1),0) -> 0 | AN78: =IF(AND(G78="k",G$5=0,G$6<$AJ78),IF(CODE(G78)=75,0.5,1),0) -> 0 | AO78: =IF(AND(H78="k",H$5=0,H$6<$AJ78),IF(CODE(H78)=75,0.5,1),0) -> 0 | AP78: =IF(AND(I78="k",I$5=0,I$6<$AJ78),IF(CODE(I78)=75,0.5,1),0) -> 0 | AQ78: =IF(AND(J78="k",J$5=0,J$6<$AJ78),IF(CODE(J78)=75,0.5,1),0) -> 0 | AR78: =IF(AND(K78="k",K$5=0,K$6<$AJ78),IF(CODE(K78)=75,0.5,1),0) -> 0 | AS78: =IF(AND(L78="k",L$5=0,L$6<$AJ78),IF(CODE(L78)=75,0.5,1),0) -> 0 | ... BP78: =IF(AND(AI78="k",AI$5=0,AI$6<$AJ78),IF(CODE(AI78)=75,0.5,1),0) -> 0
C80: =SUM(E80:AI80) -> 0 | E80: =IF(AND(E8>0,E$5=0,E$6<$AJ8),E8,0) -> 0 | F80: =IF(AND(F8>0,F$5=0,F$6<$AJ8),F8,0) -> 0 | G80: =IF(AND(G8>0,G$5=0,G$6<$AJ8),G8,0) -> 0 | H80: =IF(AND(H8>0,H$5=0,H$6<$AJ8),H8,0) -> 0 | I80: =IF(AND(I8>0,I$5=0,I$6<$AJ8),I8,0) -> 0 | J80: =IF(AND(J8>0,J$5=0,J$6<$AJ8),J8,0) -> 0 | K80: =IF(AND(K8>0,K$5=0,K$6<$AJ8),K8,0) -> 0 | L80: =IF(AND(L8>0,L$5=0,L$6<$AJ8),L8,0) -> 0 | ... AI80: =IF(AND(AI8>0,AI$5=0,AI$6<$AJ8),AI8,0) -> 0
C81: =SUM(E81:AI81) -> 0 | E81: =IF(AND(E9>0,E$5=0,E$6<$AJ9),E9,0) -> 0 | F81: =IF(AND(F9>0,F$5=0,F$6<$AJ9),F9,0) -> 0 | G81: =IF(AND(G9>0,G$5=0,G$6<$AJ9),G9,0) -> 0 | H81: =IF(AND(H9>0,H$5=0,H$6<$AJ9),H9,0) -> 0 | I81: =IF(AND(I9>0,I$5=0,I$6<$AJ9),I9,0) -> 0 | J81: =IF(AND(J9>0,J$5=0,J$6<$AJ9),J9,0) -> 0 | K81: =IF(AND(K9>0,K$5=0,K$6<$AJ9),K9,0) -> 0 | L81: =IF(AND(L9>0,L$5=0,L$6<$AJ9),L9,0) -> 0 | ... AI81: =IF(AND(AI9>0,AI$5=0,AI$6<$AJ9),AI9,0) -> 0
C82: =SUM(E82:AI82) -> 0 | E82: =IF(AND(E10>0,E$5=0,E$6<$AJ10),E10,0) -> 0 | F82: =IF(AND(F10>0,F$5=0,F$6<$AJ10),F10,0) -> 0 | G82: =IF(AND(G10>0,G$5=0,G$6<$AJ10),G10,0) -> 0 | H82: =IF(AND(H10>0,H$5=0,H$6<$AJ10),H10,0) -> 0 | I82: =IF(AND(I10>0,I$5=0,I$6<$AJ10),I10,0) -> 0 | J82: =IF(AND(J10>0,J$5=0,J$6<$AJ10),J10,0) -> 0 | K82: =IF(AND(K10>0,K$5=0,K$6<$AJ10),K10,0) -> 0 | L82: =IF(AND(L10>0,L$5=0,L$6<$AJ10),L10,0) -> 0 | ... AI82: =IF(AND(AI10>0,AI$5=0,AI$6<$AJ10),AI10,0) -> 0
C83: =SUM(E83:AI83) -> 0 | E83: =IF(AND(E11>0,E$5=0,E$6<$AJ11),E11,0) -> 0 | F83: =IF(AND(F11>0,F$5=0,F$6<$AJ11),F11,0) -> 0 | G83: =IF(AND(G11>0,G$5=0,G$6<$AJ11),G11,0) -> 0 | H83: =IF(AND(H11>0,H$5=0,H$6<$AJ11),H11,0) -> 0 | I83: =IF(AND(I11>0,I$5=0,I$6<$AJ11),I11,0) -> 0 | J83: =IF(AND(J11>0,J$5=0,J$6<$AJ11),J11,0) -> 0 | K83: =IF(AND(K11>0,K$5=0,K$6<$AJ11),K11,0) -> 0 | L83: =IF(AND(L11>0,L$5=0,L$6<$AJ11),L11,0) -> 0 | ... AI83: =IF(AND(AI11>0,AI$5=0,AI$6<$AJ11),AI11,0) -> 0
C84: =SUM(E84:AI84) -> 0 | E84: =IF(AND(E12>0,E$5=0,E$6<$AJ12),E12,0) -> 0 | F84: =IF(AND(F12>0,F$5=0,F$6<$AJ12),F12,0) -> 0 | G84: =IF(AND(G12>0,G$5=0,G$6<$AJ12),G12,0) -> 0 | H84: =IF(AND(H12>0,H$5=0,H$6<$AJ12),H12,0) -> 0 | I84: =IF(AND(I12>0,I$5=0,I$6<$AJ12),I12,0) -> 0 | J84: =IF(AND(J12>0,J$5=0,J$6<$AJ12),J12,0) -> 0 | K84: =IF(AND(K12>0,K$5=0,K$6<$AJ12),K12,0) -> 0 | L84: =IF(AND(L12>0,L$5=0,L$6<$AJ12),L12,0) -> 0 | ... AI84: =IF(AND(AI12>0,AI$5=0,AI$6<$AJ12),AI12,0) -> 0
C85: =SUM(E85:AI85) -> 0 | E85: =IF(AND(E13>0,E$5=0,E$6<$AJ13),E13,0) -> 0 | F85: =IF(AND(F13>0,F$5=0,F$6<$AJ13),F13,0) -> 0 | G85: =IF(AND(G13>0,G$5=0,G$6<$AJ13),G13,0) -> 0 | H85: =IF(AND(H13>0,H$5=0,H$6<$AJ13),H13,0) -> 0 | I85: =IF(AND(I13>0,I$5=0,I$6<$AJ13),I13,0) -> 0 | J85: =IF(AND(J13>0,J$5=0,J$6<$AJ13),J13,0) -> 0 | K85: =IF(AND(K13>0,K$5=0,K$6<$AJ13),K13,0) -> 0 | L85: =IF(AND(L13>0,L$5=0,L$6<$AJ13),L13,0) -> 0 | ... AI85: =IF(AND(AI13>0,AI$5=0,AI$6<$AJ13),AI13,0) -> 0
C86: =SUM(E86:AI86) -> 0 | E86: =IF(AND(E14>0,E$5=0,E$6<$AJ14),E14,0) -> 0 | F86: =IF(AND(F14>0,F$5=0,F$6<$AJ14),F14,0) -> 0 | G86: =IF(AND(G14>0,G$5=0,G$6<$AJ14),G14,0) -> 0 | H86: =IF(AND(H14>0,H$5=0,H$6<$AJ14),H14,0) -> 0 | I86: =IF(AND(I14>0,I$5=0,I$6<$AJ14),I14,0) -> 0 | J86: =IF(AND(J14>0,J$5=0,J$6<$AJ14),J14,0) -> 0 | K86: =IF(AND(K14>0,K$5=0,K$6<$AJ14),K14,0) -> 0 | L86: =IF(AND(L14>0,L$5=0,L$6<$AJ14),L14,0) -> 0 | ... AI86: =IF(AND(AI14>0,AI$5=0,AI$6<$AJ14),AI14,0) -> 0
C87: =SUM(E87:AI87) -> 0 | E87: =IF(AND(E15>0,E$5=0,E$6<$AJ15),E15,0) -> 0 | F87: =IF(AND(F15>0,F$5=0,F$6<$AJ15),F15,0) -> 0 | G87: =IF(AND(G15>0,G$5=0,G$6<$AJ15),G15,0) -> 0 | H87: =IF(AND(H15>0,H$5=0,H$6<$AJ15),H15,0) -> 0 | I87: =IF(AND(I15>0,I$5=0,I$6<$AJ15),I15,0) -> 0 | J87: =IF(AND(J15>0,J$5=0,J$6<$AJ15),J15,0) -> 0 | K87: =IF(AND(K15>0,K$5=0,K$6<$AJ15),K15,0) -> 0 | L87: =IF(AND(L15>0,L$5=0,L$6<$AJ15),L15,0) -> 0 | ... AI87: =IF(AND(AI15>0,AI$5=0,AI$6<$AJ15),AI15,0) -> 0
C88: =SUM(E88:AI88) -> 0 | E88: =IF(AND(E16>0,E$5=0,E$6<$AJ16),E16,0) -> 0 | F88: =IF(AND(F16>0,F$5=0,F$6<$AJ16),F16,0) -> 0 | G88: =IF(AND(G16>0,G$5=0,G$6<$AJ16),G16,0) -> 0 | H88: =IF(AND(H16>0,H$5=0,H$6<$AJ16),H16,0) -> 0 | I88: =IF(AND(I16>0,I$5=0,I$6<$AJ16),I16,0) -> 0 | J88: =IF(AND(J16>0,J$5=0,J$6<$AJ16),J16,0) -> 0 | K88: =IF(AND(K16>0,K$5=0,K$6<$AJ16),K16,0) -> 0 | L88: =IF(AND(L16>0,L$5=0,L$6<$AJ16),L16,0) -> 0 | ... AI88: =IF(AND(AI16>0,AI$5=0,AI$6<$AJ16),AI16,0) -> 0
C89: =SUM(E89:AI89) -> 0 | E89: =IF(AND(E17>0,E$5=0,E$6<$AJ17),E17,0) -> 0 | F89: =IF(AND(F17>0,F$5=0,F$6<$AJ17),F17,0) -> 0 | G89: =IF(AND(G17>0,G$5=0,G$6<$AJ17),G17,0) -> 0 | H89: =IF(AND(H17>0,H$5=0,H$6<$AJ17),H17,0) -> 0 | I89: =IF(AND(I17>0,I$5=0,I$6<$AJ17),I17,0) -> 0 | J89: =IF(AND(J17>0,J$5=0,J$6<$AJ17),J17,0) -> 0 | K89: =IF(AND(K17>0,K$5=0,K$6<$AJ17),K17,0) -> 0 | L89: =IF(AND(L17>0,L$5=0,L$6<$AJ17),L17,0) -> 0 | ... AI89: =IF(AND(AI17>0,AI$5=0,AI$6<$AJ17),AI17,0) -> 0
